BEGIN:VCALENDAR
VERSION:2.0
PRODID:-//Student Choice High School - ECPv6.15.17.1//NONSGML v1.0//EN
CALSCALE:GREGORIAN
METHOD:PUBLISH
X-WR-CALNAME:Student Choice High School
X-ORIGINAL-URL:https://www.studentchoicehighschool.com
X-WR-CALDESC:Events for Student Choice High School
REFRESH-INTERVAL;VALUE=DURATION:PT1H
X-Robots-Tag:noindex
X-PUBLISHED-TTL:PT1H
BEGIN:VTIMEZONE
TZID:America/Phoenix
BEGIN:STANDARD
TZOFFSETFROM:-0700
TZOFFSETTO:-0700
TZNAME:MST
DTSTART:20240101T000000
END:STANDARD
END:VTIMEZONE
BEGIN:VEVENT
DTSTART;TZID=America/Phoenix:20250909T113000
DTEND;TZID=America/Phoenix:20250909T120000
DTSTAMP:20260421T194234
CREATED:20250831T051142Z
LAST-MODIFIED:20250901T003512Z
UID:10000095-1757417400-1757419200@www.studentchoicehighschool.com
SUMMARY:Tempe: Turning Point Beauty College Presentation
DESCRIPTION:
URL:https://www.studentchoicehighschool.com/calendar-event/turning-point-beauty-college-presentation
LOCATION:Tempe Learning Center
END:VEVENT
END:VCALENDAR