BEGIN:VCALENDAR
VERSION:2.0
PRODID:-//Student Choice High School - ECPv6.15.17.1//NONSGML v1.0//EN
CALSCALE:GREGORIAN
METHOD:PUBLISH
X-ORIGINAL-URL:https://www.studentchoicehighschool.com
X-WR-CALDESC:Events for Student Choice High School
REFRESH-INTERVAL;VALUE=DURATION:PT1H
X-Robots-Tag:noindex
X-PUBLISHED-TTL:PT1H
BEGIN:VTIMEZONE
TZID:America/Phoenix
BEGIN:STANDARD
TZOFFSETFROM:-0700
TZOFFSETTO:-0700
TZNAME:MST
DTSTART:20240101T000000
END:STANDARD
END:VTIMEZONE
BEGIN:VEVENT
DTSTART;TZID=America/Phoenix:20250916T110000
DTEND;TZID=America/Phoenix:20250916T130000
DTSTAMP:20260421T224908
CREATED:20250901T011314Z
LAST-MODIFIED:20250915T133538Z
UID:10000108-1758020400-1758027600@www.studentchoicehighschool.com
SUMMARY:Maryvale: Carne Asada Potluck and History of Mexican Independence Day
DESCRIPTION:
URL:https://www.studentchoicehighschool.com/calendar-event/maryvale-viva-mexico
LOCATION:Maryvale Learning Center
END:VEVENT
END:VCALENDAR