BEGIN:VCALENDAR
VERSION:2.0
PRODID:-//Student Choice High School - ECPv6.15.17.1//NONSGML v1.0//EN
CALSCALE:GREGORIAN
METHOD:PUBLISH
X-ORIGINAL-URL:https://www.studentchoicehighschool.com
X-WR-CALDESC:Events for Student Choice High School
REFRESH-INTERVAL;VALUE=DURATION:PT1H
X-Robots-Tag:noindex
X-PUBLISHED-TTL:PT1H
BEGIN:VTIMEZONE
TZID:America/Phoenix
BEGIN:STANDARD
TZOFFSETFROM:-0700
TZOFFSETTO:-0700
TZNAME:MST
DTSTART:20240101T000000
END:STANDARD
END:VTIMEZONE
BEGIN:VEVENT
DTSTART;TZID=America/Phoenix:20260226T114500
DTEND;TZID=America/Phoenix:20260226T124500
DTSTAMP:20260421T184110
CREATED:20260128T205202Z
LAST-MODIFIED:20260128T205202Z
UID:10000360-1772106300-1772109900@www.studentchoicehighschool.com
SUMMARY:Maricopa: Law Enforcement Speaker
DESCRIPTION:Maricopa Law Enforcement Speaker Flyer
URL:https://www.studentchoicehighschool.com/calendar-event/maricopa-law-enforcement-speaker-2
LOCATION:Maricopa Campus
END:VEVENT
BEGIN:VEVENT
DTSTART;TZID=America/Phoenix:20260226T101500
DTEND;TZID=America/Phoenix:20260226T111500
DTSTAMP:20260421T184110
CREATED:20260128T205015Z
LAST-MODIFIED:20260128T205015Z
UID:10000359-1772100900-1772104500@www.studentchoicehighschool.com
SUMMARY:Maricopa: Law Enforcement Speaker
DESCRIPTION:Maricopa Law Enforcement Speaker Flyer
URL:https://www.studentchoicehighschool.com/calendar-event/maricopa-law-enforcement-speaker
LOCATION:Maricopa Campus
END:VEVENT
BEGIN:VEVENT
DTSTART;TZID=America/Phoenix:20250505T130000
DTEND;TZID=America/Phoenix:20250505T150000
DTSTAMP:20260421T184110
CREATED:20250409T044015Z
LAST-MODIFIED:20250409T045326Z
UID:10000033-1746450000-1746457200@www.studentchoicehighschool.com
SUMMARY:SCHS Site Graduation Picture Schedule 2025 - Maricopa Campus
DESCRIPTION:
URL:https://www.studentchoicehighschool.com/calendar-event/schs-site-graduation-picture
LOCATION:Maricopa Campus
END:VEVENT
END:VCALENDAR