BEGIN:VCALENDAR
VERSION:2.0
PRODID:-//Student Choice High School - ECPv6.15.17.1//NONSGML v1.0//EN
CALSCALE:GREGORIAN
METHOD:PUBLISH
X-ORIGINAL-URL:https://www.studentchoicehighschool.com
X-WR-CALDESC:Events for Student Choice High School
REFRESH-INTERVAL;VALUE=DURATION:PT1H
X-Robots-Tag:noindex
X-PUBLISHED-TTL:PT1H
BEGIN:VTIMEZONE
TZID:America/Phoenix
BEGIN:STANDARD
TZOFFSETFROM:-0700
TZOFFSETTO:-0700
TZNAME:MST
DTSTART:20250101T000000
END:STANDARD
END:VTIMEZONE
BEGIN:VEVENT
DTSTART;TZID=America/Phoenix:20260303T130000
DTEND;TZID=America/Phoenix:20260303T130000
DTSTAMP:20260421T123943
CREATED:20260304T171704Z
LAST-MODIFIED:20260304T171704Z
UID:10000361-1772542800-1772542800@www.studentchoicehighschool.com
SUMMARY:Glendale: Habitat for Humanity
DESCRIPTION:
URL:https://www.studentchoicehighschool.com/calendar-event/glendale-habitat-for-humanity
END:VEVENT
BEGIN:VEVENT
DTSTART;VALUE=DATE:20260304
DTEND;VALUE=DATE:20260305
DTSTAMP:20260421T123943
CREATED:20260304T172439Z
LAST-MODIFIED:20260304T172439Z
UID:10000372-1772582400-1772668799@www.studentchoicehighschool.com
SUMMARY:Surprise & Peoria: UTI Field Trip
DESCRIPTION:
URL:https://www.studentchoicehighschool.com/calendar-event/surprise-peoria-uti-field-trip
END:VEVENT
BEGIN:VEVENT
DTSTART;TZID=America/Phoenix:20260304T120000
DTEND;TZID=America/Phoenix:20260304T120000
DTSTAMP:20260421T123943
CREATED:20260304T172048Z
LAST-MODIFIED:20260304T172048Z
UID:10000366-1772625600-1772625600@www.studentchoicehighschool.com
SUMMARY:Maryvale: Mr. Rines Science
DESCRIPTION:
URL:https://www.studentchoicehighschool.com/calendar-event/maryvale-mr-rines-science
END:VEVENT
BEGIN:VEVENT
DTSTART;VALUE=DATE:20260306
DTEND;VALUE=DATE:20260307
DTSTAMP:20260421T123943
CREATED:20260304T171926Z
LAST-MODIFIED:20260304T171926Z
UID:10000364-1772755200-1772841599@www.studentchoicehighschool.com
SUMMARY:Maricopa: ASVAB Test
DESCRIPTION:
URL:https://www.studentchoicehighschool.com/calendar-event/maricopa-asvab-test
END:VEVENT
BEGIN:VEVENT
DTSTART;VALUE=DATE:20260309
DTEND;VALUE=DATE:20260310
DTSTAMP:20260421T123943
CREATED:20260304T172452Z
LAST-MODIFIED:20260304T172452Z
UID:10000373-1773014400-1773100799@www.studentchoicehighschool.com
SUMMARY:Yuma: YPG Field Trip (EC)
DESCRIPTION:
URL:https://www.studentchoicehighschool.com/calendar-event/yuma-ypg-field-trip-ec
END:VEVENT
BEGIN:VEVENT
DTSTART;VALUE=DATE:20260311
DTEND;VALUE=DATE:20260312
DTSTAMP:20260421T123944
CREATED:20260304T172335Z
LAST-MODIFIED:20260304T172335Z
UID:10000370-1773187200-1773273599@www.studentchoicehighschool.com
SUMMARY:Peoria: Health Insurance & Financial Planning
DESCRIPTION:
URL:https://www.studentchoicehighschool.com/calendar-event/peoria-health-insurance-financial-planning
END:VEVENT
BEGIN:VEVENT
DTSTART;VALUE=DATE:20260311
DTEND;VALUE=DATE:20260312
DTSTAMP:20260421T123944
CREATED:20260304T172536Z
LAST-MODIFIED:20260304T172536Z
UID:10000374-1773187200-1773273599@www.studentchoicehighschool.com
SUMMARY:Yuma: Food Bank Service Learning
DESCRIPTION:
URL:https://www.studentchoicehighschool.com/calendar-event/yuma-food-bank-service-learning-3
END:VEVENT
BEGIN:VEVENT
DTSTART;TZID=America/Phoenix:20260311T120000
DTEND;TZID=America/Phoenix:20260311T130000
DTSTAMP:20260421T123944
CREATED:20260304T172119Z
LAST-MODIFIED:20260304T172119Z
UID:10000367-1773230400-1773234000@www.studentchoicehighschool.com
SUMMARY:Maryvale: Career Fair
DESCRIPTION:
URL:https://www.studentchoicehighschool.com/calendar-event/maryvale-career-fair
END:VEVENT
BEGIN:VEVENT
DTSTART;VALUE=DATE:20260312
DTEND;VALUE=DATE:20260313
DTSTAMP:20260421T123944
CREATED:20260304T172006Z
LAST-MODIFIED:20260304T172659Z
UID:10000365-1773273600-1773359999@www.studentchoicehighschool.com
SUMMARY:Maricopa: Financial Literacy Discussion (Chase Bank)
DESCRIPTION:
URL:https://www.studentchoicehighschool.com/calendar-event/maricopa-financial-literacy-discussion-chase-bank
END:VEVENT
BEGIN:VEVENT
DTSTART;TZID=America/Phoenix:20260312T130000
DTEND;TZID=America/Phoenix:20260312T143000
DTSTAMP:20260421T123944
CREATED:20250901T002300Z
LAST-MODIFIED:20250901T010002Z
UID:10000103-1773320400-1773325800@www.studentchoicehighschool.com
SUMMARY:Maryvale: Little Steps\, Big Dreams
DESCRIPTION:
URL:https://www.studentchoicehighschool.com/calendar-event/little-steps-big-dreams-at-maryvale/2026-03-12
LOCATION:Maryvale Campus
END:VEVENT
BEGIN:VEVENT
DTSTART;VALUE=DATE:20260316
DTEND;VALUE=DATE:20260321
DTSTAMP:20260421T123944
CREATED:20251009T160646Z
LAST-MODIFIED:20251009T160646Z
UID:10000159-1773619200-1774051199@www.studentchoicehighschool.com
SUMMARY:Spring Break - No School
DESCRIPTION:
URL:https://www.studentchoicehighschool.com/calendar-event/spring-break-no-school-2
END:VEVENT
BEGIN:VEVENT
DTSTART;TZID=America/Phoenix:20260319T120000
DTEND;TZID=America/Phoenix:20260319T130000
DTSTAMP:20260421T123944
CREATED:20260304T172221Z
LAST-MODIFIED:20260304T172221Z
UID:10000368-1773921600-1773925200@www.studentchoicehighschool.com
SUMMARY:Maryvale: Financial Literacy (Banking Basics)
DESCRIPTION:
URL:https://www.studentchoicehighschool.com/calendar-event/maryvale-financial-literacy-banking-basics
END:VEVENT
BEGIN:VEVENT
DTSTART;VALUE=DATE:20260323
DTEND;VALUE=DATE:20260324
DTSTAMP:20260421T123944
CREATED:20260304T171810Z
LAST-MODIFIED:20260304T171810Z
UID:10000362-1774224000-1774310399@www.studentchoicehighschool.com
SUMMARY:Kroc: ASVAB
DESCRIPTION:
URL:https://www.studentchoicehighschool.com/calendar-event/kroc-asvab
END:VEVENT
BEGIN:VEVENT
DTSTART;TZID=America/Phoenix:20260324T120000
DTEND;TZID=America/Phoenix:20260324T130000
DTSTAMP:20260421T123944
CREATED:20260304T172255Z
LAST-MODIFIED:20260304T172255Z
UID:10000369-1774353600-1774357200@www.studentchoicehighschool.com
SUMMARY:Maryvale: Coffee Haus
DESCRIPTION:
URL:https://www.studentchoicehighschool.com/calendar-event/maryvale-coffee-haus-3
END:VEVENT
BEGIN:VEVENT
DTSTART;TZID=America/Phoenix:20260325T071500
DTEND;TZID=America/Phoenix:20260325T111500
DTSTAMP:20260421T123944
CREATED:20250923T052611Z
LAST-MODIFIED:20250923T052611Z
UID:10000132-1774422900-1774437300@www.studentchoicehighschool.com
SUMMARY:Surprise: Service Learning Adopt-a-Street
DESCRIPTION:
URL:https://www.studentchoicehighschool.com/calendar-event/surprise-service-learning-adopt-a-street-2/2026-03-25
END:VEVENT
BEGIN:VEVENT
DTSTART;TZID=America/Phoenix:20260326T100000
DTEND;TZID=America/Phoenix:20260326T110000
DTSTAMP:20260421T123944
CREATED:20260304T171848Z
LAST-MODIFIED:20260304T171848Z
UID:10000363-1774519200-1774522800@www.studentchoicehighschool.com
SUMMARY:Kroc: Turning Point Beauty College
DESCRIPTION:
URL:https://www.studentchoicehighschool.com/calendar-event/kroc-turning-point-beauty-college
END:VEVENT
BEGIN:VEVENT
DTSTART;VALUE=DATE:20260327
DTEND;VALUE=DATE:20260328
DTSTAMP:20260421T123944
CREATED:20260304T172555Z
LAST-MODIFIED:20260304T172555Z
UID:10000375-1774569600-1774655999@www.studentchoicehighschool.com
SUMMARY:Yuma: Fun Friday
DESCRIPTION:
URL:https://www.studentchoicehighschool.com/calendar-event/yuma-fun-friday-2
END:VEVENT
BEGIN:VEVENT
DTSTART;TZID=America/Phoenix:20260327T101500
DTEND;TZID=America/Phoenix:20260327T101500
DTSTAMP:20260421T123944
CREATED:20251009T154911Z
LAST-MODIFIED:20251009T154911Z
UID:10000149-1774606500-1774606500@www.studentchoicehighschool.com
SUMMARY:AM Early Release
DESCRIPTION:
URL:https://www.studentchoicehighschool.com/calendar-event/am-early-release-10
END:VEVENT
BEGIN:VEVENT
DTSTART;TZID=America/Phoenix:20260327T124500
DTEND;TZID=America/Phoenix:20260327T124500
DTSTAMP:20260421T123944
CREATED:20251009T154250Z
LAST-MODIFIED:20251009T154250Z
UID:10000144-1774615500-1774615500@www.studentchoicehighschool.com
SUMMARY:PM Late Start
DESCRIPTION:
URL:https://www.studentchoicehighschool.com/calendar-event/pm-late-start-10
END:VEVENT
END:VCALENDAR