BEGIN:VCALENDAR
VERSION:2.0
PRODID:-//Student Choice High School - ECPv6.15.17.1//NONSGML v1.0//EN
CALSCALE:GREGORIAN
METHOD:PUBLISH
X-WR-CALNAME:Student Choice High School
X-ORIGINAL-URL:https://www.studentchoicehighschool.com
X-WR-CALDESC:Events for Student Choice High School
REFRESH-INTERVAL;VALUE=DURATION:PT1H
X-Robots-Tag:noindex
X-PUBLISHED-TTL:PT1H
BEGIN:VTIMEZONE
TZID:America/Phoenix
BEGIN:STANDARD
TZOFFSETFROM:-0700
TZOFFSETTO:-0700
TZNAME:MST
DTSTART:20240101T000000
END:STANDARD
END:VTIMEZONE
BEGIN:VEVENT
DTSTART;VALUE=DATE:20260126
DTEND;VALUE=DATE:20260131
DTSTAMP:20260421T215620
CREATED:20251219T203351Z
LAST-MODIFIED:20251219T203351Z
UID:10000325-1769385600-1769817599@www.studentchoicehighschool.com
SUMMARY:Yuma: Spirit Week
DESCRIPTION:Yuma Dress Up Days Flyer
URL:https://www.studentchoicehighschool.com/calendar-event/yuma-spirit-week-3
END:VEVENT
BEGIN:VEVENT
DTSTART;TZID=America/Phoenix:20260121T110000
DTEND;TZID=America/Phoenix:20260121T140000
DTSTAMP:20260421T215620
CREATED:20251219T202546Z
LAST-MODIFIED:20251219T202546Z
UID:10000322-1768993200-1769004000@www.studentchoicehighschool.com
SUMMARY:Yuma: Food Bank Service Learning
DESCRIPTION:Yuma Food Bank Service Learning Flyer
URL:https://www.studentchoicehighschool.com/calendar-event/yuma-food-bank-service-learning
END:VEVENT
BEGIN:VEVENT
DTSTART;TZID=America/Phoenix:20260121T100000
DTEND;TZID=America/Phoenix:20260121T120000
DTSTAMP:20260421T215620
CREATED:20251219T202431Z
LAST-MODIFIED:20251219T202431Z
UID:10000321-1768989600-1768996800@www.studentchoicehighschool.com
SUMMARY:Kroc: College Fair
DESCRIPTION:Kroc College Fair Flyer
URL:https://www.studentchoicehighschool.com/calendar-event/kroc-college-fair
END:VEVENT
BEGIN:VEVENT
DTSTART;TZID=America/Phoenix:20260120T120000
DTEND;TZID=America/Phoenix:20260120T130000
DTSTAMP:20260421T215620
CREATED:20251219T202204Z
LAST-MODIFIED:20251219T202204Z
UID:10000319-1768910400-1768914000@www.studentchoicehighschool.com
SUMMARY:Maryvale: Coffee Haus
DESCRIPTION:
URL:https://www.studentchoicehighschool.com/calendar-event/maryvale-coffee-haus
END:VEVENT
BEGIN:VEVENT
DTSTART;VALUE=DATE:20260120
DTEND;VALUE=DATE:20260121
DTSTAMP:20260421T215620
CREATED:20251219T202228Z
LAST-MODIFIED:20251219T202228Z
UID:10000320-1768867200-1768953599@www.studentchoicehighschool.com
SUMMARY:Surprise: Civics Matters Field Trip
DESCRIPTION:
URL:https://www.studentchoicehighschool.com/calendar-event/surprise-civics-matters-field-trip
END:VEVENT
BEGIN:VEVENT
DTSTART;VALUE=DATE:20260119
DTEND;VALUE=DATE:20260120
DTSTAMP:20260421T215620
CREATED:20251009T155832Z
LAST-MODIFIED:20251009T155832Z
UID:10000155-1768780800-1768867199@www.studentchoicehighschool.com
SUMMARY:Martin Luther King\, Jr. Day - No School
DESCRIPTION:
URL:https://www.studentchoicehighschool.com/calendar-event/martin-luther-king-jr-day-no-school-2
END:VEVENT
BEGIN:VEVENT
DTSTART;TZID=America/Phoenix:20260115T120000
DTEND;TZID=America/Phoenix:20260115T130000
DTSTAMP:20260421T215620
CREATED:20251219T202030Z
LAST-MODIFIED:20251219T202030Z
UID:10000317-1768478400-1768482000@www.studentchoicehighschool.com
SUMMARY:Maryvale: Financial Literacy - Debt
DESCRIPTION:
URL:https://www.studentchoicehighschool.com/calendar-event/maryvale-financial-literacy-debt
END:VEVENT
BEGIN:VEVENT
DTSTART;VALUE=DATE:20260115
DTEND;VALUE=DATE:20260116
DTSTAMP:20260421T215620
CREATED:20251219T202046Z
LAST-MODIFIED:20251219T202046Z
UID:10000318-1768435200-1768521599@www.studentchoicehighschool.com
SUMMARY:Surprise: Army on Campus
DESCRIPTION:
URL:https://www.studentchoicehighschool.com/calendar-event/surprise-army-on-campus
END:VEVENT
BEGIN:VEVENT
DTSTART;VALUE=DATE:20260114
DTEND;VALUE=DATE:20260115
DTSTAMP:20260421T215620
CREATED:20251219T201820Z
LAST-MODIFIED:20251219T201820Z
UID:10000315-1768348800-1768435199@www.studentchoicehighschool.com
SUMMARY:Peoria: How to Change a Tire and Use Tire Chains
DESCRIPTION:
URL:https://www.studentchoicehighschool.com/calendar-event/peoria-how-to-change-a-tire-and-use-tire-chains
END:VEVENT
BEGIN:VEVENT
DTSTART;VALUE=DATE:20260114
DTEND;VALUE=DATE:20260115
DTSTAMP:20260421T215620
CREATED:20251219T201748Z
LAST-MODIFIED:20251219T201748Z
UID:10000314-1768348800-1768435199@www.studentchoicehighschool.com
SUMMARY:Glendale: Life Skills Workshop - Create Your Personal Signature
DESCRIPTION:
URL:https://www.studentchoicehighschool.com/calendar-event/glendale-life-skills-workshop-create-your-personal-signature
END:VEVENT
BEGIN:VEVENT
DTSTART;TZID=America/Phoenix:20260113T113000
DTEND;TZID=America/Phoenix:20260113T120000
DTSTAMP:20260421T215620
CREATED:20251219T201240Z
LAST-MODIFIED:20251219T201240Z
UID:10000312-1768303800-1768305600@www.studentchoicehighschool.com
SUMMARY:Tempe: College Essay Workshop
DESCRIPTION:College Essay Writing Workshop Flyer – Tempe
URL:https://www.studentchoicehighschool.com/calendar-event/tempe-college-essay-workshop
LOCATION:1833 N SCOTTSDALE RD\, TEMPE AZ 85288
END:VEVENT
BEGIN:VEVENT
DTSTART;TZID=America/Phoenix:20260113T101500
DTEND;TZID=America/Phoenix:20260113T120000
DTSTAMP:20260421T215620
CREATED:20251219T201454Z
LAST-MODIFIED:20251219T201454Z
UID:10000313-1768299300-1768305600@www.studentchoicehighschool.com
SUMMARY:Yuma: Border Patrol Guest Speaker
DESCRIPTION:Border Patrol Guest Speaker Flyer
URL:https://www.studentchoicehighschool.com/calendar-event/yuma-border-patrol-guest-speaker
END:VEVENT
BEGIN:VEVENT
DTSTART;TZID=America/Phoenix:20260109T100000
DTEND;TZID=America/Phoenix:20260109T120000
DTSTAMP:20260421T215620
CREATED:20251123T230613Z
LAST-MODIFIED:20251123T230613Z
UID:10000288-1767952800-1767960000@www.studentchoicehighschool.com
SUMMARY:Glendale: Don’t Leave Free Money on the Table Workshop
DESCRIPTION:FAFSA and Funds Flyer
URL:https://www.studentchoicehighschool.com/calendar-event/glendale-dont-leave-free-money-on-the-table-workshop
END:VEVENT
BEGIN:VEVENT
DTSTART;TZID=America/Phoenix:20260108T130000
DTEND;TZID=America/Phoenix:20260108T143000
DTSTAMP:20260421T215620
CREATED:20250901T002300Z
LAST-MODIFIED:20250901T010002Z
UID:10000101-1767877200-1767882600@www.studentchoicehighschool.com
SUMMARY:Maryvale: Little Steps\, Big Dreams
DESCRIPTION:
URL:https://www.studentchoicehighschool.com/calendar-event/little-steps-big-dreams-at-maryvale/2026-01-08
LOCATION:Maryvale Campus
END:VEVENT
BEGIN:VEVENT
DTSTART;TZID=America/Phoenix:20260107T140000
DTEND;TZID=America/Phoenix:20260107T160000
DTSTAMP:20260421T215620
CREATED:20251219T195437Z
LAST-MODIFIED:20251219T195437Z
UID:10000311-1767794400-1767801600@www.studentchoicehighschool.com
SUMMARY:Maryvale: West Mac Application
DESCRIPTION:
URL:https://www.studentchoicehighschool.com/calendar-event/maryvale-west-mac-application
END:VEVENT
BEGIN:VEVENT
DTSTART;VALUE=DATE:20251222
DTEND;VALUE=DATE:20260103
DTSTAMP:20260421T215620
CREATED:20251009T155733Z
LAST-MODIFIED:20251009T155733Z
UID:10000154-1766361600-1767398399@www.studentchoicehighschool.com
SUMMARY:Winter Break - No School
DESCRIPTION:
URL:https://www.studentchoicehighschool.com/calendar-event/winter-break-no-school-4
END:VEVENT
BEGIN:VEVENT
DTSTART;TZID=America/Phoenix:20251219T124500
DTEND;TZID=America/Phoenix:20251219T124500
DTSTAMP:20260421T215620
CREATED:20251009T154008Z
LAST-MODIFIED:20251009T154008Z
UID:10000140-1766148300-1766148300@www.studentchoicehighschool.com
SUMMARY:PM Late Start
DESCRIPTION:
URL:https://www.studentchoicehighschool.com/calendar-event/pm-late-start-7
END:VEVENT
BEGIN:VEVENT
DTSTART;TZID=America/Phoenix:20251219T120000
DTEND;TZID=America/Phoenix:20251219T120000
DTSTAMP:20260421T215620
CREATED:20251123T225352Z
LAST-MODIFIED:20251123T225935Z
UID:10000281-1766145600-1766145600@www.studentchoicehighschool.com
SUMMARY:Maricopa: Christmas Cookie Decorating Party
DESCRIPTION:Christmas Cookie Decorating Party
URL:https://www.studentchoicehighschool.com/calendar-event/maricopa-christmas-cookie-decorating-party-2
END:VEVENT
BEGIN:VEVENT
DTSTART;TZID=America/Phoenix:20251219T101500
DTEND;TZID=America/Phoenix:20251219T101500
DTSTAMP:20260421T215620
CREATED:20251009T154555Z
LAST-MODIFIED:20251009T154555Z
UID:10000146-1766139300-1766139300@www.studentchoicehighschool.com
SUMMARY:AM Early Release
DESCRIPTION:
URL:https://www.studentchoicehighschool.com/calendar-event/am-early-release-7
END:VEVENT
BEGIN:VEVENT
DTSTART;TZID=America/Phoenix:20251219T080000
DTEND;TZID=America/Phoenix:20251219T120000
DTSTAMP:20260421T215620
CREATED:20251123T232750Z
LAST-MODIFIED:20251123T232750Z
UID:10000308-1766131200-1766145600@www.studentchoicehighschool.com
SUMMARY:Maryvale: Winter Spectacular
DESCRIPTION:
URL:https://www.studentchoicehighschool.com/calendar-event/maryvale-winter-spectacular
END:VEVENT
BEGIN:VEVENT
DTSTART;TZID=America/Phoenix:20251219T080000
DTEND;TZID=America/Phoenix:20251219T080000
DTSTAMP:20260421T215620
CREATED:20251123T225244Z
LAST-MODIFIED:20251123T225244Z
UID:10000280-1766131200-1766131200@www.studentchoicehighschool.com
SUMMARY:Maricopa: Christmas Cookie Decorating Party
DESCRIPTION:Christmas Cookie Decorating Party Flyer
URL:https://www.studentchoicehighschool.com/calendar-event/maricopa-christmas-cookie-decorating-party
END:VEVENT
BEGIN:VEVENT
DTSTART;VALUE=DATE:20251219
DTEND;VALUE=DATE:20251220
DTSTAMP:20260421T215620
CREATED:20251219T201918Z
LAST-MODIFIED:20251219T201918Z
UID:10000316-1766102400-1766188799@www.studentchoicehighschool.com
SUMMARY:Yuma: Stedy with Katie Clint
DESCRIPTION:Stedy Flyer
URL:https://www.studentchoicehighschool.com/calendar-event/yuma-stedy-with-katie-clint
END:VEVENT
BEGIN:VEVENT
DTSTART;VALUE=DATE:20251219
DTEND;VALUE=DATE:20251220
DTSTAMP:20260421T215620
CREATED:20251123T232839Z
LAST-MODIFIED:20251123T232839Z
UID:10000309-1766102400-1766188799@www.studentchoicehighschool.com
SUMMARY:District: FAFSA December Drawing Winner
DESCRIPTION:
URL:https://www.studentchoicehighschool.com/calendar-event/district-fafsa-december-drawing-winner
END:VEVENT
BEGIN:VEVENT
DTSTART;TZID=America/Phoenix:20251218T120000
DTEND;TZID=America/Phoenix:20251218T130000
DTSTAMP:20260421T215620
CREATED:20251123T232603Z
LAST-MODIFIED:20251123T232603Z
UID:10000306-1766059200-1766062800@www.studentchoicehighschool.com
SUMMARY:Maryvale: Financial Literacy (Credit)
DESCRIPTION:
URL:https://www.studentchoicehighschool.com/calendar-event/maryvale-financial-literacy-credit
END:VEVENT
BEGIN:VEVENT
DTSTART;TZID=America/Phoenix:20251218T090000
DTEND;TZID=America/Phoenix:20251218T110000
DTSTAMP:20260421T215620
CREATED:20250923T052802Z
LAST-MODIFIED:20250923T052802Z
UID:10000135-1766048400-1766055600@www.studentchoicehighschool.com
SUMMARY:Tempe: Donuts with the Principal
DESCRIPTION:
URL:https://www.studentchoicehighschool.com/calendar-event/tempe-donuts-with-the-principal/2025-12-18
END:VEVENT
BEGIN:VEVENT
DTSTART;VALUE=DATE:20251218
DTEND;VALUE=DATE:20251219
DTSTAMP:20260421T215620
CREATED:20251123T232651Z
LAST-MODIFIED:20251123T232651Z
UID:10000307-1766016000-1766102399@www.studentchoicehighschool.com
SUMMARY:San Luis: Gingerbread House Building
DESCRIPTION:
URL:https://www.studentchoicehighschool.com/calendar-event/san-luis-gingerbread-house-building
END:VEVENT
BEGIN:VEVENT
DTSTART;TZID=America/Phoenix:20251217T120000
DTEND;TZID=America/Phoenix:20251217T120000
DTSTAMP:20260421T215620
CREATED:20251123T231058Z
LAST-MODIFIED:20251123T231058Z
UID:10000292-1765972800-1765972800@www.studentchoicehighschool.com
SUMMARY:Glendale: Holiday Party
DESCRIPTION:Holiday Party Flyer
URL:https://www.studentchoicehighschool.com/calendar-event/glendale-holiday-party
END:VEVENT
BEGIN:VEVENT
DTSTART;TZID=America/Phoenix:20251217T090000
DTEND;TZID=America/Phoenix:20251217T120000
DTSTAMP:20260421T215620
CREATED:20251123T225539Z
LAST-MODIFIED:20251123T225828Z
UID:10000282-1765962000-1765972800@www.studentchoicehighschool.com
SUMMARY:Kroc: Gingerbread House Building and Games
DESCRIPTION:Gingerbread House Building and Games
URL:https://www.studentchoicehighschool.com/calendar-event/kroc-gingerbread-house-building-and-games
END:VEVENT
BEGIN:VEVENT
DTSTART;VALUE=DATE:20251217
DTEND;VALUE=DATE:20251218
DTSTAMP:20260421T215621
CREATED:20251123T232513Z
LAST-MODIFIED:20251123T232513Z
UID:10000305-1765929600-1766015999@www.studentchoicehighschool.com
SUMMARY:Peoria: Health and Wellness Fair
DESCRIPTION:
URL:https://www.studentchoicehighschool.com/calendar-event/peoria-health-and-wellness-fair
END:VEVENT
BEGIN:VEVENT
DTSTART;TZID=America/Phoenix:20251216T141500
DTEND;TZID=America/Phoenix:20251216T141500
DTSTAMP:20260421T215621
CREATED:20251123T230220Z
LAST-MODIFIED:20251123T230220Z
UID:10000285-1765894500-1765894500@www.studentchoicehighschool.com
SUMMARY:Maricopa: Christmas Cards for Seniors
DESCRIPTION:Christmas Cards for Seniors Flyer
URL:https://www.studentchoicehighschool.com/calendar-event/maricopa-christmas-cards-for-seniors-2
END:VEVENT
END:VCALENDAR