BEGIN:VCALENDAR
VERSION:2.0
PRODID:-//Student Choice High School - ECPv6.15.17.1//NONSGML v1.0//EN
CALSCALE:GREGORIAN
METHOD:PUBLISH
X-WR-CALNAME:Student Choice High School
X-ORIGINAL-URL:https://www.studentchoicehighschool.com
X-WR-CALDESC:Events for Student Choice High School
REFRESH-INTERVAL;VALUE=DURATION:PT1H
X-Robots-Tag:noindex
X-PUBLISHED-TTL:PT1H
BEGIN:VTIMEZONE
TZID:America/Phoenix
BEGIN:STANDARD
TZOFFSETFROM:-0700
TZOFFSETTO:-0700
TZNAME:MST
DTSTART:20240101T000000
END:STANDARD
END:VTIMEZONE
BEGIN:VEVENT
DTSTART;VALUE=DATE:20250515
DTEND;VALUE=DATE:20250516
DTSTAMP:20260422T230644
CREATED:20250507T003834Z
LAST-MODIFIED:20250507T003834Z
UID:10000049-1747267200-1747353599@www.studentchoicehighschool.com
SUMMARY:Kroc: Senior Brunch & Cap/Gown Decorating
DESCRIPTION:
URL:https://www.studentchoicehighschool.com/calendar-event/kroc-senior-brunch-cap-gown-decorating
END:VEVENT
BEGIN:VEVENT
DTSTART;TZID=America/Phoenix:20250509T130000
DTEND;TZID=America/Phoenix:20250509T150000
DTSTAMP:20260422T230644
CREATED:20250409T044936Z
LAST-MODIFIED:20250409T044936Z
UID:10000040-1746795600-1746802800@www.studentchoicehighschool.com
SUMMARY:SCHS Site Graduation Picture Schedule 2025 - Kroc Campus
DESCRIPTION:
URL:https://www.studentchoicehighschool.com/calendar-event/schs-site-graduation-picture-schedule-2025-kroc-campus
LOCATION:Kroc Campus
END:VEVENT
BEGIN:VEVENT
DTSTART;TZID=America/Phoenix:20250509T090000
DTEND;TZID=America/Phoenix:20250509T110000
DTSTAMP:20260422T230644
CREATED:20250409T044823Z
LAST-MODIFIED:20250409T050008Z
UID:10000039-1746781200-1746788400@www.studentchoicehighschool.com
SUMMARY:SCHS Site Graduation Picture Schedule 2025 - Tempe Campus
DESCRIPTION:
URL:https://www.studentchoicehighschool.com/calendar-event/schs-site-graduation-picture-schedule-2025-6
LOCATION:Tempe Campus
END:VEVENT
BEGIN:VEVENT
DTSTART;TZID=America/Phoenix:20250508T130000
DTEND;TZID=America/Phoenix:20250508T150000
DTSTAMP:20260422T230644
CREATED:20250409T044729Z
LAST-MODIFIED:20250409T045917Z
UID:10000038-1746709200-1746716400@www.studentchoicehighschool.com
SUMMARY:SCHS Site Graduation Picture Schedule 2025 - Maryvale Campus
DESCRIPTION:
URL:https://www.studentchoicehighschool.com/calendar-event/schs-site-graduation-picture-schedule-2025-5
LOCATION:Maryvale Campus
END:VEVENT
BEGIN:VEVENT
DTSTART;TZID=America/Phoenix:20250508T090000
DTEND;TZID=America/Phoenix:20250508T110000
DTSTAMP:20260422T230644
CREATED:20250409T044629Z
LAST-MODIFIED:20250409T045743Z
UID:10000037-1746694800-1746702000@www.studentchoicehighschool.com
SUMMARY:SCHS Site Graduation Picture Schedule 2025 - Glendale Campus
DESCRIPTION:
URL:https://www.studentchoicehighschool.com/calendar-event/schs-site-graduation-picture-schedule-2025-4
LOCATION:Glendale Campus
END:VEVENT
BEGIN:VEVENT
DTSTART;TZID=America/Phoenix:20250507T100000
DTEND;TZID=America/Phoenix:20250507T120000
DTSTAMP:20260422T230645
CREATED:20250409T044538Z
LAST-MODIFIED:20250409T045647Z
UID:10000036-1746612000-1746619200@www.studentchoicehighschool.com
SUMMARY:SCHS Site Graduation Picture Schedule 2025 - Yuma/San Luis Campus
DESCRIPTION:
URL:https://www.studentchoicehighschool.com/calendar-event/schs-site-graduation-picture-schedule-2025-3
LOCATION:Yuma/San Luis Campus
END:VEVENT
BEGIN:VEVENT
DTSTART;TZID=America/Phoenix:20250506T130000
DTEND;TZID=America/Phoenix:20250506T150000
DTSTAMP:20260422T230645
CREATED:20250409T044440Z
LAST-MODIFIED:20250409T045549Z
UID:10000035-1746536400-1746543600@www.studentchoicehighschool.com
SUMMARY:SCHS Site Graduation Picture Schedule 2025 - Peoria Campus
DESCRIPTION:
URL:https://www.studentchoicehighschool.com/calendar-event/schs-site-graduation-picture-schedule-2025-2
LOCATION:Peoria Campus
END:VEVENT
BEGIN:VEVENT
DTSTART;TZID=America/Phoenix:20250506T090000
DTEND;TZID=America/Phoenix:20250506T110000
DTSTAMP:20260422T230645
CREATED:20250409T044252Z
LAST-MODIFIED:20250409T045450Z
UID:10000034-1746522000-1746529200@www.studentchoicehighschool.com
SUMMARY:SCHS Site Graduation Picture Schedule 2025 - Surprise Campus
DESCRIPTION:
URL:https://www.studentchoicehighschool.com/calendar-event/schs-site-graduation-picture-schedule-2025
LOCATION:Surprise Campus
END:VEVENT
BEGIN:VEVENT
DTSTART;TZID=America/Phoenix:20250505T130000
DTEND;TZID=America/Phoenix:20250505T150000
DTSTAMP:20260422T230645
CREATED:20250409T044015Z
LAST-MODIFIED:20250409T045326Z
UID:10000033-1746450000-1746457200@www.studentchoicehighschool.com
SUMMARY:SCHS Site Graduation Picture Schedule 2025 - Maricopa Campus
DESCRIPTION:
URL:https://www.studentchoicehighschool.com/calendar-event/schs-site-graduation-picture
LOCATION:Maricopa Campus
END:VEVENT
BEGIN:VEVENT
DTSTART;VALUE=DATE:20250505
DTEND;VALUE=DATE:20250510
DTSTAMP:20260422T230645
CREATED:20250507T003714Z
LAST-MODIFIED:20250507T003714Z
UID:10000048-1746403200-1746835199@www.studentchoicehighschool.com
SUMMARY:Tempe: Love Our Learners
DESCRIPTION:
URL:https://www.studentchoicehighschool.com/calendar-event/tempe-love-our-learners
END:VEVENT
BEGIN:VEVENT
DTSTART;VALUE=DATE:20250505
DTEND;VALUE=DATE:20250506
DTSTAMP:20260422T230645
CREATED:20250507T003557Z
LAST-MODIFIED:20250507T003557Z
UID:10000047-1746403200-1746489599@www.studentchoicehighschool.com
SUMMARY:Maryvale: Partnership With YMCA Cinco de Mayo Celebration
DESCRIPTION:
URL:https://www.studentchoicehighschool.com/calendar-event/maryvale-partnership-with-ymca-cinco-de-mayo-celebration
END:VEVENT
BEGIN:VEVENT
DTSTART;VALUE=DATE:20250505
DTEND;VALUE=DATE:20250506
DTSTAMP:20260422T230645
CREATED:20250507T003430Z
LAST-MODIFIED:20250507T004004Z
UID:10000046-1746403200-1746489599@www.studentchoicehighschool.com
SUMMARY:Surprise: Chips and Salsa Day
DESCRIPTION:
URL:https://www.studentchoicehighschool.com/calendar-event/surprise-campus-chips-and-salsa-day
END:VEVENT
BEGIN:VEVENT
DTSTART;TZID=America/Phoenix:20250430T130000
DTEND;TZID=America/Phoenix:20250430T141500
DTSTAMP:20260422T230645
CREATED:20250409T043936Z
LAST-MODIFIED:20250409T043936Z
UID:10000032-1746018000-1746022500@www.studentchoicehighschool.com
SUMMARY:San Luis: AWC Check in on Campus
DESCRIPTION:
URL:https://www.studentchoicehighschool.com/calendar-event/san-luis-awc-check-in-on-campus
END:VEVENT
BEGIN:VEVENT
DTSTART;TZID=America/Phoenix:20250425T124500
DTEND;TZID=America/Phoenix:20250425T124500
DTSTAMP:20260422T230645
CREATED:20241223T190328Z
LAST-MODIFIED:20241223T190328Z
UID:10000019-1745585100-1745585100@www.studentchoicehighschool.com
SUMMARY:PM Late Start
DESCRIPTION:
URL:https://www.studentchoicehighschool.com/calendar-event/pm-late-start-4
END:VEVENT
BEGIN:VEVENT
DTSTART;TZID=America/Phoenix:20250425T101500
DTEND;TZID=America/Phoenix:20250425T101500
DTSTAMP:20260422T230645
CREATED:20241223T190243Z
LAST-MODIFIED:20241223T190243Z
UID:10000018-1745576100-1745576100@www.studentchoicehighschool.com
SUMMARY:AM Early Release
DESCRIPTION:
URL:https://www.studentchoicehighschool.com/calendar-event/am-early-release-4
END:VEVENT
BEGIN:VEVENT
DTSTART;VALUE=DATE:20250422
DTEND;VALUE=DATE:20250423
DTSTAMP:20260422T230645
CREATED:20250409T043849Z
LAST-MODIFIED:20250409T043849Z
UID:10000031-1745280000-1745366399@www.studentchoicehighschool.com
SUMMARY:Glendale: National Jelly Bean Day
DESCRIPTION:
URL:https://www.studentchoicehighschool.com/calendar-event/glendale-national-jelly-bean-day
END:VEVENT
BEGIN:VEVENT
DTSTART;TZID=America/Phoenix:20250421T090000
DTEND;TZID=America/Phoenix:20250421T133000
DTSTAMP:20260422T230645
CREATED:20250409T043808Z
LAST-MODIFIED:20250409T043808Z
UID:10000030-1745226000-1745242200@www.studentchoicehighschool.com
SUMMARY:Yuma: @ AWC Firebird to Matador Tour
DESCRIPTION:
URL:https://www.studentchoicehighschool.com/calendar-event/yuma-awc-firebird-to-matador-tour
END:VEVENT
BEGIN:VEVENT
DTSTART;VALUE=DATE:20250421
DTEND;VALUE=DATE:20250422
DTSTAMP:20260422T230645
CREATED:20250224T195727Z
LAST-MODIFIED:20250224T195727Z
UID:10000029-1745193600-1745279999@www.studentchoicehighschool.com
SUMMARY:Freshman Aspire Testing Begins
DESCRIPTION:
URL:https://www.studentchoicehighschool.com/calendar-event/freshman-aspire-testing-begins
END:VEVENT
BEGIN:VEVENT
DTSTART;VALUE=DATE:20250418
DTEND;VALUE=DATE:20250419
DTSTAMP:20260422T230645
CREATED:20241223T190159Z
LAST-MODIFIED:20241223T190159Z
UID:10000017-1744934400-1745020799@www.studentchoicehighschool.com
SUMMARY:Good Friday - No School
DESCRIPTION:
URL:https://www.studentchoicehighschool.com/calendar-event/good-friday-no-school
END:VEVENT
BEGIN:VEVENT
DTSTART;VALUE=DATE:20250408
DTEND;VALUE=DATE:20250409
DTSTAMP:20260422T230645
CREATED:20241223T190113Z
LAST-MODIFIED:20241223T190113Z
UID:10000016-1744070400-1744156799@www.studentchoicehighschool.com
SUMMARY:ACT Test - Mandatory for All Juniors
DESCRIPTION:
URL:https://www.studentchoicehighschool.com/calendar-event/act-test-mandatory-for-all-juniors
END:VEVENT
BEGIN:VEVENT
DTSTART;VALUE=DATE:20250317
DTEND;VALUE=DATE:20250322
DTSTAMP:20260422T230645
CREATED:20241223T190041Z
LAST-MODIFIED:20241223T190041Z
UID:10000015-1742169600-1742601599@www.studentchoicehighschool.com
SUMMARY:Spring Break - No School
DESCRIPTION:
URL:https://www.studentchoicehighschool.com/calendar-event/spring-break-no-school
END:VEVENT
BEGIN:VEVENT
DTSTART;TZID=America/Phoenix:20250314T124500
DTEND;TZID=America/Phoenix:20250314T124500
DTSTAMP:20260422T230645
CREATED:20241223T190001Z
LAST-MODIFIED:20241223T190001Z
UID:10000014-1741956300-1741956300@www.studentchoicehighschool.com
SUMMARY:PM Late Start
DESCRIPTION:
URL:https://www.studentchoicehighschool.com/calendar-event/pm-late-start-3
END:VEVENT
BEGIN:VEVENT
DTSTART;TZID=America/Phoenix:20250314T101500
DTEND;TZID=America/Phoenix:20250314T101500
DTSTAMP:20260422T230645
CREATED:20241223T185916Z
LAST-MODIFIED:20241223T185916Z
UID:10000013-1741947300-1741947300@www.studentchoicehighschool.com
SUMMARY:AM Early Release
DESCRIPTION:
URL:https://www.studentchoicehighschool.com/calendar-event/am-early-release-3
END:VEVENT
BEGIN:VEVENT
DTSTART;TZID=America/Phoenix:20250221T124500
DTEND;TZID=America/Phoenix:20250221T124500
DTSTAMP:20260422T230645
CREATED:20241223T185817Z
LAST-MODIFIED:20241223T185817Z
UID:10000012-1740141900-1740141900@www.studentchoicehighschool.com
SUMMARY:PM Late Start
DESCRIPTION:
URL:https://www.studentchoicehighschool.com/calendar-event/pm-late-start-2
END:VEVENT
BEGIN:VEVENT
DTSTART;TZID=America/Phoenix:20250221T101500
DTEND;TZID=America/Phoenix:20250221T101500
DTSTAMP:20260422T230645
CREATED:20241223T185729Z
LAST-MODIFIED:20241223T185729Z
UID:10000011-1740132900-1740132900@www.studentchoicehighschool.com
SUMMARY:AM Early Release
DESCRIPTION:
URL:https://www.studentchoicehighschool.com/calendar-event/am-early-release-2
END:VEVENT
BEGIN:VEVENT
DTSTART;VALUE=DATE:20250219
DTEND;VALUE=DATE:20250220
DTSTAMP:20260422T230645
CREATED:20241223T185644Z
LAST-MODIFIED:20241223T185644Z
UID:10000010-1739923200-1740009599@www.studentchoicehighschool.com
SUMMARY:End of Second Trimester
DESCRIPTION:
URL:https://www.studentchoicehighschool.com/calendar-event/end-of-second-trimester
END:VEVENT
BEGIN:VEVENT
DTSTART;VALUE=DATE:20250217
DTEND;VALUE=DATE:20250218
DTSTAMP:20260422T230645
CREATED:20241223T185610Z
LAST-MODIFIED:20241223T185610Z
UID:10000009-1739750400-1739836799@www.studentchoicehighschool.com
SUMMARY:President’s Day - No School
DESCRIPTION:
URL:https://www.studentchoicehighschool.com/calendar-event/presidents-day-no-school
END:VEVENT
BEGIN:VEVENT
DTSTART;VALUE=DATE:20250214
DTEND;VALUE=DATE:20250215
DTSTAMP:20260422T230645
CREATED:20241223T185542Z
LAST-MODIFIED:20241223T185542Z
UID:10000008-1739491200-1739577599@www.studentchoicehighschool.com
SUMMARY:Mandatory Staff Development - No School
DESCRIPTION:
URL:https://www.studentchoicehighschool.com/calendar-event/mandatory-staff-development-no-school
END:VEVENT
BEGIN:VEVENT
DTSTART;TZID=America/Phoenix:20250207T124500
DTEND;TZID=America/Phoenix:20250207T124500
DTSTAMP:20260422T230645
CREATED:20241223T185454Z
LAST-MODIFIED:20241223T185454Z
UID:10000007-1738932300-1738932300@www.studentchoicehighschool.com
SUMMARY:PM Late Start
DESCRIPTION:
URL:https://www.studentchoicehighschool.com/calendar-event/pm-late-start
END:VEVENT
BEGIN:VEVENT
DTSTART;TZID=America/Phoenix:20250207T101500
DTEND;TZID=America/Phoenix:20250207T101500
DTSTAMP:20260422T230645
CREATED:20241223T185253Z
LAST-MODIFIED:20241223T185253Z
UID:10000006-1738923300-1738923300@www.studentchoicehighschool.com
SUMMARY:AM Early Release
DESCRIPTION:
URL:https://www.studentchoicehighschool.com/calendar-event/am-early-release
END:VEVENT
END:VCALENDAR