BEGIN:VCALENDAR
VERSION:2.0
PRODID:-//Student Choice High School - ECPv6.15.17.1//NONSGML v1.0//EN
CALSCALE:GREGORIAN
METHOD:PUBLISH
X-ORIGINAL-URL:https://www.studentchoicehighschool.com
X-WR-CALDESC:Events for Student Choice High School
REFRESH-INTERVAL;VALUE=DURATION:PT1H
X-Robots-Tag:noindex
X-PUBLISHED-TTL:PT1H
BEGIN:VTIMEZONE
TZID:America/Phoenix
BEGIN:STANDARD
TZOFFSETFROM:-0700
TZOFFSETTO:-0700
TZNAME:MST
DTSTART:20250101T000000
END:STANDARD
END:VTIMEZONE
BEGIN:VEVENT
DTSTART;VALUE=DATE:20260525
DTEND;VALUE=DATE:20260526
DTSTAMP:20260421T171452
CREATED:20251009T161240Z
LAST-MODIFIED:20251009T161240Z
UID:10000164-1779667200-1779753599@www.studentchoicehighschool.com
SUMMARY:Memorial Day - No School
DESCRIPTION:
URL:https://www.studentchoicehighschool.com/calendar-event/memorial-day-no-school-2
END:VEVENT
BEGIN:VEVENT
DTSTART;VALUE=DATE:20260619
DTEND;VALUE=DATE:20260620
DTSTAMP:20260421T171452
CREATED:20251009T161338Z
LAST-MODIFIED:20251009T161338Z
UID:10000165-1781827200-1781913599@www.studentchoicehighschool.com
SUMMARY:Juneteenth - No School
DESCRIPTION:
URL:https://www.studentchoicehighschool.com/calendar-event/juneteenth-no-school-2
END:VEVENT
BEGIN:VEVENT
DTSTART;VALUE=DATE:20260629
DTEND;VALUE=DATE:20260704
DTSTAMP:20260421T171452
CREATED:20251009T161455Z
LAST-MODIFIED:20251009T161455Z
UID:10000166-1782691200-1783123199@www.studentchoicehighschool.com
SUMMARY:Summer Break - All Campuses\, Learning Centers\, and Offices Closed
DESCRIPTION:
URL:https://www.studentchoicehighschool.com/calendar-event/summer-break-all-campuses-learning-centers-and-offices-closed
END:VEVENT
END:VCALENDAR