BEGIN:VCALENDAR
VERSION:2.0
PRODID:-//Student Choice High School - ECPv6.15.17.1//NONSGML v1.0//EN
CALSCALE:GREGORIAN
METHOD:PUBLISH
X-WR-CALNAME:Student Choice High School
X-ORIGINAL-URL:https://www.studentchoicehighschool.com
X-WR-CALDESC:Events for Student Choice High School
REFRESH-INTERVAL;VALUE=DURATION:PT1H
X-Robots-Tag:noindex
X-PUBLISHED-TTL:PT1H
BEGIN:VTIMEZONE
TZID:America/Phoenix
BEGIN:STANDARD
TZOFFSETFROM:-0700
TZOFFSETTO:-0700
TZNAME:MST
DTSTART:20250101T000000
END:STANDARD
END:VTIMEZONE
BEGIN:VEVENT
DTSTART;VALUE=DATE:20260219
DTEND;VALUE=DATE:20260220
DTSTAMP:20260421T171544
CREATED:20260128T204140Z
LAST-MODIFIED:20260128T204140Z
UID:10000354-1771459200-1771545599@www.studentchoicehighschool.com
SUMMARY:Maryvale: Financial Literacy - Basic Banking
DESCRIPTION:
URL:https://www.studentchoicehighschool.com/calendar-event/maryvale-financial-literacy-basic-banking
LOCATION:Maryvale Campus
END:VEVENT
BEGIN:VEVENT
DTSTART;VALUE=DATE:20260218
DTEND;VALUE=DATE:20260219
DTSTAMP:20260421T171544
CREATED:20260128T204012Z
LAST-MODIFIED:20260128T204012Z
UID:10000353-1771372800-1771459199@www.studentchoicehighschool.com
SUMMARY:Tempe: Dress for Success and Mock Interviews
DESCRIPTION:
URL:https://www.studentchoicehighschool.com/calendar-event/tempe-dress-for-success-and-mock-interviews
END:VEVENT
BEGIN:VEVENT
DTSTART;VALUE=DATE:20260218
DTEND;VALUE=DATE:20260219
DTSTAMP:20260421T171544
CREATED:20260128T203828Z
LAST-MODIFIED:20260128T203828Z
UID:10000352-1771372800-1771459199@www.studentchoicehighschool.com
SUMMARY:Yuma: KYMA Field Trip (RAC)
DESCRIPTION:
URL:https://www.studentchoicehighschool.com/calendar-event/yuma-kyma-field-trip-rac
END:VEVENT
BEGIN:VEVENT
DTSTART;VALUE=DATE:20260217
DTEND;VALUE=DATE:20260218
DTSTAMP:20260421T171544
CREATED:20251009T160429Z
LAST-MODIFIED:20251009T160429Z
UID:10000158-1771286400-1771372799@www.studentchoicehighschool.com
SUMMARY:End of Second Trimester
DESCRIPTION:
URL:https://www.studentchoicehighschool.com/calendar-event/end-of-second-trimester-2
END:VEVENT
BEGIN:VEVENT
DTSTART;VALUE=DATE:20260216
DTEND;VALUE=DATE:20260217
DTSTAMP:20260421T171544
CREATED:20251009T160045Z
LAST-MODIFIED:20251009T160045Z
UID:10000157-1771200000-1771286399@www.studentchoicehighschool.com
SUMMARY:Presidents Day - No School
DESCRIPTION:
URL:https://www.studentchoicehighschool.com/calendar-event/presidents-day-no-school-2
END:VEVENT
BEGIN:VEVENT
DTSTART;TZID=America/Phoenix:20260213T100000
DTEND;TZID=America/Phoenix:20260213T120000
DTSTAMP:20260421T171544
CREATED:20251123T230725Z
LAST-MODIFIED:20251123T230725Z
UID:10000289-1770976800-1770984000@www.studentchoicehighschool.com
SUMMARY:Glendale: Get Paid to Graduate Workshop
DESCRIPTION:FAFSA and Funds Flyer
URL:https://www.studentchoicehighschool.com/calendar-event/glendale-get-paid-to-graduate-workshop
END:VEVENT
BEGIN:VEVENT
DTSTART;VALUE=DATE:20260213
DTEND;VALUE=DATE:20260214
DTSTAMP:20260421T171544
CREATED:20260128T203655Z
LAST-MODIFIED:20260128T203655Z
UID:10000351-1770940800-1771027199@www.studentchoicehighschool.com
SUMMARY:Kroc: Trivia with Maryvale
DESCRIPTION:
URL:https://www.studentchoicehighschool.com/calendar-event/kroc-trivia-with-maryvale
END:VEVENT
BEGIN:VEVENT
DTSTART;VALUE=DATE:20260213
DTEND;VALUE=DATE:20260214
DTSTAMP:20260421T171544
CREATED:20260128T203552Z
LAST-MODIFIED:20260128T203552Z
UID:10000350-1770940800-1771027199@www.studentchoicehighschool.com
SUMMARY:Maryvale: Trivia with Kroc
DESCRIPTION:
URL:https://www.studentchoicehighschool.com/calendar-event/maryvale-trivia-with-kroc
END:VEVENT
BEGIN:VEVENT
DTSTART;VALUE=DATE:20260213
DTEND;VALUE=DATE:20260214
DTSTAMP:20260421T171544
CREATED:20260128T201750Z
LAST-MODIFIED:20260128T201750Z
UID:10000343-1770940800-1771027199@www.studentchoicehighschool.com
SUMMARY:Maryvale Workshop Week: Cooking Class
DESCRIPTION:Maryvale Workshop Week Flyer
URL:https://www.studentchoicehighschool.com/calendar-event/maryvale-workshop-week-cooking-class
END:VEVENT
BEGIN:VEVENT
DTSTART;TZID=America/Phoenix:20260212T130000
DTEND;TZID=America/Phoenix:20260212T143000
DTSTAMP:20260421T171544
CREATED:20250901T002300Z
LAST-MODIFIED:20250901T010002Z
UID:10000102-1770901200-1770906600@www.studentchoicehighschool.com
SUMMARY:Maryvale: Little Steps\, Big Dreams
DESCRIPTION:
URL:https://www.studentchoicehighschool.com/calendar-event/little-steps-big-dreams-at-maryvale/2026-02-12
LOCATION:Maryvale Campus
END:VEVENT
BEGIN:VEVENT
DTSTART;VALUE=DATE:20260212
DTEND;VALUE=DATE:20260213
DTSTAMP:20260421T171544
CREATED:20260128T203345Z
LAST-MODIFIED:20260128T203345Z
UID:10000349-1770854400-1770940799@www.studentchoicehighschool.com
SUMMARY:Tempe: Mesa Community College FAFSA Event
DESCRIPTION:
URL:https://www.studentchoicehighschool.com/calendar-event/tempe-mesa-community-college-fafsa-event
LOCATION:Tempe Campus
END:VEVENT
BEGIN:VEVENT
DTSTART;VALUE=DATE:20260212
DTEND;VALUE=DATE:20260213
DTSTAMP:20260421T171544
CREATED:20260128T201642Z
LAST-MODIFIED:20260128T201642Z
UID:10000342-1770854400-1770940799@www.studentchoicehighschool.com
SUMMARY:Maryvale Workshop Week: Machines and More
DESCRIPTION:Maryvale Workshop Week Flyer
URL:https://www.studentchoicehighschool.com/calendar-event/maryvale-workshop-week-machines-and-more
END:VEVENT
BEGIN:VEVENT
DTSTART;VALUE=DATE:20260211
DTEND;VALUE=DATE:20260212
DTSTAMP:20260421T171544
CREATED:20260128T203044Z
LAST-MODIFIED:20260128T203044Z
UID:10000348-1770768000-1770854399@www.studentchoicehighschool.com
SUMMARY:Maryvale: Mr. Rine Science Guy!
DESCRIPTION:
URL:https://www.studentchoicehighschool.com/calendar-event/maryvale-mr-rine-science-guy
LOCATION:Maryvale Campus
END:VEVENT
BEGIN:VEVENT
DTSTART;VALUE=DATE:20260211
DTEND;VALUE=DATE:20260212
DTSTAMP:20260421T171544
CREATED:20260128T201446Z
LAST-MODIFIED:20260128T201446Z
UID:10000341-1770768000-1770854399@www.studentchoicehighschool.com
SUMMARY:Maryvale Workshop Week: Budgeting
DESCRIPTION:Maryvale Workshop Week Flyer
URL:https://www.studentchoicehighschool.com/calendar-event/maryvale-workshop-week-budgeting
END:VEVENT
BEGIN:VEVENT
DTSTART;TZID=America/Phoenix:20260210T114500
DTEND;TZID=America/Phoenix:20260210T114500
DTSTAMP:20260421T171544
CREATED:20260128T202317Z
LAST-MODIFIED:20260128T202317Z
UID:10000346-1770723900-1770723900@www.studentchoicehighschool.com
SUMMARY:Maricopa: Central Arizona Community College Visit - Session 2
DESCRIPTION:Central Arizona Community College Visit Flyer
URL:https://www.studentchoicehighschool.com/calendar-event/maricopa-central-arizona-community-college-visit-session-2
END:VEVENT
BEGIN:VEVENT
DTSTART;TZID=America/Phoenix:20260210T103000
DTEND;TZID=America/Phoenix:20260210T123000
DTSTAMP:20260421T171544
CREATED:20260128T200151Z
LAST-MODIFIED:20260128T200151Z
UID:10000333-1770719400-1770726600@www.studentchoicehighschool.com
SUMMARY:OLC: Arizona@ Work - Create a Winning Resume Webinar
DESCRIPTION:Virtual and In-Person \nOLC Events Flyer
URL:https://www.studentchoicehighschool.com/calendar-event/olc-arizona-work-create-a-winning-resume-webinar-2
END:VEVENT
BEGIN:VEVENT
DTSTART;TZID=America/Phoenix:20260210T101500
DTEND;TZID=America/Phoenix:20260210T101500
DTSTAMP:20260421T171544
CREATED:20260128T202118Z
LAST-MODIFIED:20260128T202510Z
UID:10000345-1770718500-1770718500@www.studentchoicehighschool.com
SUMMARY:Maricopa: Central Arizona Community College Visit - Session 1
DESCRIPTION:Central Arizona Community College Visit Flyer
URL:https://www.studentchoicehighschool.com/calendar-event/maricopa-central-arizona-community-college-visit-session-1
END:VEVENT
BEGIN:VEVENT
DTSTART;VALUE=DATE:20260210
DTEND;VALUE=DATE:20260211
DTSTAMP:20260421T171544
CREATED:20260128T201330Z
LAST-MODIFIED:20260128T201330Z
UID:10000340-1770681600-1770767999@www.studentchoicehighschool.com
SUMMARY:Maryvale Workshop Week: Nail Stamping
DESCRIPTION:Maryvale Workshop Week Flyer
URL:https://www.studentchoicehighschool.com/calendar-event/maryvale-workshop-week-nail-stamping
END:VEVENT
BEGIN:VEVENT
DTSTART;TZID=America/Phoenix:20260209T103000
DTEND;TZID=America/Phoenix:20260209T123000
DTSTAMP:20260421T171544
CREATED:20260128T195808Z
LAST-MODIFIED:20260128T195808Z
UID:10000330-1770633000-1770640200@www.studentchoicehighschool.com
SUMMARY:OLC: Arizona@ Work - Self and Career Exploration Webinar
DESCRIPTION:Virtual and In-Person \nOLC Events Flyer
URL:https://www.studentchoicehighschool.com/calendar-event/olc-arizona-work-self-and-career-exploration-webinar-2
END:VEVENT
BEGIN:VEVENT
DTSTART;VALUE=DATE:20260209
DTEND;VALUE=DATE:20260214
DTSTAMP:20260421T171544
CREATED:20260128T201935Z
LAST-MODIFIED:20260128T201935Z
UID:10000344-1770595200-1771027199@www.studentchoicehighschool.com
SUMMARY:Yuma: Love Your Career Week
DESCRIPTION:
URL:https://www.studentchoicehighschool.com/calendar-event/yuma-love-your-career-week
END:VEVENT
BEGIN:VEVENT
DTSTART;VALUE=DATE:20260209
DTEND;VALUE=DATE:20260210
DTSTAMP:20260421T171544
CREATED:20260128T201214Z
LAST-MODIFIED:20260128T201214Z
UID:10000339-1770595200-1770681599@www.studentchoicehighschool.com
SUMMARY:Maryvale Workshop Week: Sewing Stressballs
DESCRIPTION:Maryvale Workshop Week Flyer
URL:https://www.studentchoicehighschool.com/calendar-event/maryvale-workshop-week-sewing-stressballs
END:VEVENT
BEGIN:VEVENT
DTSTART;VALUE=DATE:20260206
DTEND;VALUE=DATE:20260207
DTSTAMP:20260421T171544
CREATED:20251009T155928Z
LAST-MODIFIED:20251009T155928Z
UID:10000156-1770336000-1770422399@www.studentchoicehighschool.com
SUMMARY:Staff Development - No School
DESCRIPTION:
URL:https://www.studentchoicehighschool.com/calendar-event/staff-development-no-school
END:VEVENT
BEGIN:VEVENT
DTSTART;TZID=America/Phoenix:20260205T120000
DTEND;TZID=America/Phoenix:20260205T120000
DTSTAMP:20260421T171544
CREATED:20260128T200938Z
LAST-MODIFIED:20260128T200938Z
UID:10000338-1770292800-1770292800@www.studentchoicehighschool.com
SUMMARY:Maryvale: Roar and Restore
DESCRIPTION:Maryvale Roar and Restore Flyer
URL:https://www.studentchoicehighschool.com/calendar-event/maryvale-roar-and-restore
LOCATION:Maryvale Campus
END:VEVENT
BEGIN:VEVENT
DTSTART;VALUE=DATE:20260204
DTEND;VALUE=DATE:20260205
DTSTAMP:20260421T171544
CREATED:20260128T200741Z
LAST-MODIFIED:20260128T200741Z
UID:10000337-1770163200-1770249599@www.studentchoicehighschool.com
SUMMARY:Maryvale: FAFSA Event
DESCRIPTION:
URL:https://www.studentchoicehighschool.com/calendar-event/maryvale-fafsa-event
END:VEVENT
BEGIN:VEVENT
DTSTART;TZID=America/Phoenix:20260203T103000
DTEND;TZID=America/Phoenix:20260203T123000
DTSTAMP:20260421T171544
CREATED:20260128T200052Z
LAST-MODIFIED:20260128T200052Z
UID:10000332-1770114600-1770121800@www.studentchoicehighschool.com
SUMMARY:OLC: Arizona@ Work - Create a Winning Resume Webinar
DESCRIPTION:Virtual and In-Person \nOLC Events Flyer
URL:https://www.studentchoicehighschool.com/calendar-event/olc-arizona-work-create-a-winning-resume-webinar
END:VEVENT
BEGIN:VEVENT
DTSTART;TZID=America/Phoenix:20260203T100000
DTEND;TZID=America/Phoenix:20260203T100000
DTSTAMP:20260421T171544
CREATED:20260128T200617Z
LAST-MODIFIED:20260128T200617Z
UID:10000336-1770112800-1770112800@www.studentchoicehighschool.com
SUMMARY:Glendale: Test Anxiety Workshop
DESCRIPTION:Conquering Test Anxiety Flyer
URL:https://www.studentchoicehighschool.com/calendar-event/glendale-test-anxiety-workshop
LOCATION:Glendale Learning Center
END:VEVENT
BEGIN:VEVENT
DTSTART;TZID=America/Phoenix:20260202T103000
DTEND;TZID=America/Phoenix:20260202T123000
DTSTAMP:20260421T171544
CREATED:20260128T195640Z
LAST-MODIFIED:20260128T195640Z
UID:10000329-1770028200-1770035400@www.studentchoicehighschool.com
SUMMARY:OLC: Arizona@ Work - Self and Career Exploration Webinar
DESCRIPTION:Virtual and In-Person \nOLC Events Flyer
URL:https://www.studentchoicehighschool.com/calendar-event/olc-arizona-work-self-and-career-exploration-webinar
END:VEVENT
BEGIN:VEVENT
DTSTART;VALUE=DATE:20260202
DTEND;VALUE=DATE:20260203
DTSTAMP:20260421T171544
CREATED:20260127T211753Z
LAST-MODIFIED:20260128T195024Z
UID:10000328-1769990400-1770076799@www.studentchoicehighschool.com
SUMMARY:Maryvale: Valentine Gram Goal Sheet Competition Begins
DESCRIPTION:Maryvale Valentine Gram Flyer
URL:https://www.studentchoicehighschool.com/calendar-event/maryvale-valentine-gram-goal-sheet-competition-begins
END:VEVENT
BEGIN:VEVENT
DTSTART;TZID=America/Phoenix:20260130T124500
DTEND;TZID=America/Phoenix:20260130T124500
DTSTAMP:20260421T171544
CREATED:20251009T154049Z
LAST-MODIFIED:20251009T154049Z
UID:10000141-1769777100-1769777100@www.studentchoicehighschool.com
SUMMARY:PM Late Start
DESCRIPTION:
URL:https://www.studentchoicehighschool.com/calendar-event/pm-late-start-8
END:VEVENT
BEGIN:VEVENT
DTSTART;TZID=America/Phoenix:20260130T101500
DTEND;TZID=America/Phoenix:20260130T101500
DTSTAMP:20260421T171544
CREATED:20251009T154720Z
LAST-MODIFIED:20251009T154720Z
UID:10000147-1769768100-1769768100@www.studentchoicehighschool.com
SUMMARY:AM Early Release
DESCRIPTION:
URL:https://www.studentchoicehighschool.com/calendar-event/am-early-release-8
END:VEVENT
END:VCALENDAR