BEGIN:VCALENDAR
VERSION:2.0
PRODID:-//Student Choice High School - ECPv6.15.17.1//NONSGML v1.0//EN
CALSCALE:GREGORIAN
METHOD:PUBLISH
X-WR-CALNAME:Student Choice High School
X-ORIGINAL-URL:https://www.studentchoicehighschool.com
X-WR-CALDESC:Events for Student Choice High School
REFRESH-INTERVAL;VALUE=DURATION:PT1H
X-Robots-Tag:noindex
X-PUBLISHED-TTL:PT1H
BEGIN:VTIMEZONE
TZID:America/Phoenix
BEGIN:STANDARD
TZOFFSETFROM:-0700
TZOFFSETTO:-0700
TZNAME:MST
DTSTART:20240101T000000
END:STANDARD
END:VTIMEZONE
BEGIN:VEVENT
DTSTART;VALUE=DATE:20250917
DTEND;VALUE=DATE:20250918
DTSTAMP:20260422T152552
CREATED:20250915T133903Z
LAST-MODIFIED:20250915T133903Z
UID:10000111-1758067200-1758153599@www.studentchoicehighschool.com
SUMMARY:Surprise: RSI Presentation with Erin on Campus
DESCRIPTION:RSI Presentation Flyer
URL:https://www.studentchoicehighschool.com/calendar-event/surprise-rsi-presentation-with-erin-on-campus
END:VEVENT
BEGIN:VEVENT
DTSTART;TZID=America/Phoenix:20250916T110000
DTEND;TZID=America/Phoenix:20250916T130000
DTSTAMP:20260422T152552
CREATED:20250901T011314Z
LAST-MODIFIED:20250915T133538Z
UID:10000108-1758020400-1758027600@www.studentchoicehighschool.com
SUMMARY:Maryvale: Carne Asada Potluck and History of Mexican Independence Day
DESCRIPTION:
URL:https://www.studentchoicehighschool.com/calendar-event/maryvale-viva-mexico
LOCATION:Maryvale Learning Center
END:VEVENT
BEGIN:VEVENT
DTSTART;TZID=America/Phoenix:20250916T080000
DTEND;TZID=America/Phoenix:20250916T100000
DTSTAMP:20260422T152552
CREATED:20250915T133642Z
LAST-MODIFIED:20250915T133642Z
UID:10000109-1758009600-1758016800@www.studentchoicehighschool.com
SUMMARY:Tempe: Breakfast for Juniors
DESCRIPTION:
URL:https://www.studentchoicehighschool.com/calendar-event/tempe-breakfast-for-juniors
END:VEVENT
BEGIN:VEVENT
DTSTART;VALUE=DATE:20250916
DTEND;VALUE=DATE:20250917
DTSTAMP:20260422T152552
CREATED:20250915T133747Z
LAST-MODIFIED:20250915T133747Z
UID:10000110-1757980800-1758067199@www.studentchoicehighschool.com
SUMMARY:San Luis: Dia de la independencia Celebration!
DESCRIPTION:
URL:https://www.studentchoicehighschool.com/calendar-event/san-luis-dia-de-la-independencia-celebration
END:VEVENT
BEGIN:VEVENT
DTSTART;VALUE=DATE:20250915
DTEND;VALUE=DATE:20250920
DTSTAMP:20260422T152552
CREATED:20250901T011020Z
LAST-MODIFIED:20250915T133336Z
UID:10000107-1757894400-1758326399@www.studentchoicehighschool.com
SUMMARY:Maryvale: Spirit Week
DESCRIPTION:Spirit Week Flyer
URL:https://www.studentchoicehighschool.com/calendar-event/maryvale-spirit-week-2
END:VEVENT
BEGIN:VEVENT
DTSTART;TZID=America/Phoenix:20250911T130000
DTEND;TZID=America/Phoenix:20250911T143000
DTSTAMP:20260422T152552
CREATED:20250901T002300Z
LAST-MODIFIED:20250901T010002Z
UID:10000097-1757595600-1757601000@www.studentchoicehighschool.com
SUMMARY:Maryvale: Little Steps\, Big Dreams
DESCRIPTION:
URL:https://www.studentchoicehighschool.com/calendar-event/little-steps-big-dreams-at-maryvale/2025-09-11
LOCATION:Maryvale Campus
END:VEVENT
BEGIN:VEVENT
DTSTART;TZID=America/Phoenix:20250910T140000
DTEND;TZID=America/Phoenix:20250910T140000
DTSTAMP:20260422T152552
CREATED:20250831T053628Z
LAST-MODIFIED:20250901T003640Z
UID:10000096-1757512800-1757512800@www.studentchoicehighschool.com
SUMMARY:Yuma: Radio Talk Show
DESCRIPTION:
URL:https://www.studentchoicehighschool.com/calendar-event/schs-yuma-radio-talk-show
END:VEVENT
BEGIN:VEVENT
DTSTART;TZID=America/Phoenix:20250909T113000
DTEND;TZID=America/Phoenix:20250909T120000
DTSTAMP:20260422T152552
CREATED:20250831T051142Z
LAST-MODIFIED:20250901T003512Z
UID:10000095-1757417400-1757419200@www.studentchoicehighschool.com
SUMMARY:Tempe: Turning Point Beauty College Presentation
DESCRIPTION:
URL:https://www.studentchoicehighschool.com/calendar-event/turning-point-beauty-college-presentation
LOCATION:Tempe Learning Center
END:VEVENT
BEGIN:VEVENT
DTSTART;VALUE=DATE:20250908
DTEND;VALUE=DATE:20250913
DTSTAMP:20260422T152552
CREATED:20250831T045919Z
LAST-MODIFIED:20250901T003846Z
UID:10000094-1757289600-1757721599@www.studentchoicehighschool.com
SUMMARY:Surprise (N and S): Mental Health Awareness Week
DESCRIPTION:
URL:https://www.studentchoicehighschool.com/calendar-event/mental-health-awareness-week
END:VEVENT
BEGIN:VEVENT
DTSTART;TZID=America/Phoenix:20250904T100000
DTEND;TZID=America/Phoenix:20250904T100000
DTSTAMP:20260422T152552
CREATED:20250831T044932Z
LAST-MODIFIED:20250901T003227Z
UID:10000093-1756980000-1756980000@www.studentchoicehighschool.com
SUMMARY:San Luis: U.S. Army Presentation
DESCRIPTION:
URL:https://www.studentchoicehighschool.com/calendar-event/u-s-army-presentation
END:VEVENT
BEGIN:VEVENT
DTSTART;TZID=America/Phoenix:20250903T140000
DTEND;TZID=America/Phoenix:20250903T140000
DTSTAMP:20260422T152552
CREATED:20250901T010740Z
LAST-MODIFIED:20250901T010740Z
UID:10000106-1756908000-1756908000@www.studentchoicehighschool.com
SUMMARY:Yuma: Guest Speaker (Mortician)
DESCRIPTION:
URL:https://www.studentchoicehighschool.com/calendar-event/yuma-guest-speaker-mortician
LOCATION:Yuma Campus
END:VEVENT
BEGIN:VEVENT
DTSTART;TZID=America/Phoenix:20250902T110000
DTEND;TZID=America/Phoenix:20250902T110000
DTSTAMP:20260422T152552
CREATED:20250813T003258Z
LAST-MODIFIED:20250813T003258Z
UID:10000091-1756810800-1756810800@www.studentchoicehighschool.com
SUMMARY:Kroc: Resume & Job Search Workshop
DESCRIPTION:Kroc: Resume and Job Search Workshop Flyer
URL:https://www.studentchoicehighschool.com/calendar-event/kroc-resume-job-search-workshop
END:VEVENT
BEGIN:VEVENT
DTSTART;VALUE=DATE:20250901
DTEND;VALUE=DATE:20250902
DTSTAMP:20260422T152552
CREATED:20250813T002940Z
LAST-MODIFIED:20250813T002940Z
UID:10000090-1756684800-1756771199@www.studentchoicehighschool.com
SUMMARY:Labor Day (No School)
DESCRIPTION:
URL:https://www.studentchoicehighschool.com/calendar-event/labor-day-no-school
END:VEVENT
BEGIN:VEVENT
DTSTART;VALUE=DATE:20250829
DTEND;VALUE=DATE:20250830
DTSTAMP:20260422T152552
CREATED:20250813T002656Z
LAST-MODIFIED:20250813T004228Z
UID:10000089-1756425600-1756511999@www.studentchoicehighschool.com
SUMMARY:Staff Development (No School)
DESCRIPTION:
URL:https://www.studentchoicehighschool.com/calendar-event/all-day-staff-development-no-school
END:VEVENT
BEGIN:VEVENT
DTSTART;TZID=America/Phoenix:20250828T110000
DTEND;TZID=America/Phoenix:20250828T130000
DTSTAMP:20260422T152552
CREATED:20250813T002547Z
LAST-MODIFIED:20250813T002547Z
UID:10000088-1756378800-1756386000@www.studentchoicehighschool.com
SUMMARY:Peoria: Welcome Back BBQ
DESCRIPTION:Peoria BBQ Flyer
URL:https://www.studentchoicehighschool.com/calendar-event/peoria-welcome-back-bbq
END:VEVENT
BEGIN:VEVENT
DTSTART;TZID=America/Phoenix:20250828T104500
DTEND;TZID=America/Phoenix:20250828T123000
DTSTAMP:20260422T152552
CREATED:20250812T215152Z
LAST-MODIFIED:20250812T215152Z
UID:10000070-1756377900-1756384200@www.studentchoicehighschool.com
SUMMARY:OLC: Interview Skills for Success @ Arizona@Work
DESCRIPTION:Available online or in person.\nVisit the Arizona @ Work Workshop website to register.\nOLC Event Flyer: Self and Career Exploration with Arizona @ Work.
URL:https://www.studentchoicehighschool.com/calendar-event/olc-interview-skills-for-success-arizonawork-4
END:VEVENT
BEGIN:VEVENT
DTSTART;TZID=America/Phoenix:20250828T090000
DTEND;TZID=America/Phoenix:20250828T110000
DTSTAMP:20260422T152552
CREATED:20250813T000551Z
LAST-MODIFIED:20250813T000551Z
UID:10000086-1756371600-1756378800@www.studentchoicehighschool.com
SUMMARY:Tempe: Donuts and Discussion with Principal Amy
DESCRIPTION:
URL:https://www.studentchoicehighschool.com/calendar-event/tempe-donuts-and-discussion-with-principal-amy
END:VEVENT
BEGIN:VEVENT
DTSTART;VALUE=DATE:20250828
DTEND;VALUE=DATE:20250829
DTSTAMP:20260422T152552
CREATED:20250813T002314Z
LAST-MODIFIED:20250813T002314Z
UID:10000087-1756339200-1756425599@www.studentchoicehighschool.com
SUMMARY:Yuma: Birthday Celebrations on Campus
DESCRIPTION:
URL:https://www.studentchoicehighschool.com/calendar-event/yuma-birthday-celebrations-on-campus
END:VEVENT
BEGIN:VEVENT
DTSTART;TZID=America/Phoenix:20250827T113000
DTEND;TZID=America/Phoenix:20250827T143000
DTSTAMP:20260422T152552
CREATED:20250813T000400Z
LAST-MODIFIED:20250813T000400Z
UID:10000085-1756294200-1756305000@www.studentchoicehighschool.com
SUMMARY:Yuma: @ Yuma Food Bank Service Learning
DESCRIPTION:
URL:https://www.studentchoicehighschool.com/calendar-event/yuma-yuma-food-bank-service-learning
END:VEVENT
BEGIN:VEVENT
DTSTART;TZID=America/Phoenix:20250827T100000
DTEND;TZID=America/Phoenix:20250827T130000
DTSTAMP:20260422T152552
CREATED:20250813T000219Z
LAST-MODIFIED:20250813T000219Z
UID:10000084-1756288800-1756299600@www.studentchoicehighschool.com
SUMMARY:Peoria: @ West-MEC Tour
DESCRIPTION:West-MEC Tour Flyer
URL:https://www.studentchoicehighschool.com/calendar-event/peoria-west-mec-tour
END:VEVENT
BEGIN:VEVENT
DTSTART;TZID=America/Phoenix:20250827T100000
DTEND;TZID=America/Phoenix:20250827T110000
DTSTAMP:20260422T152552
CREATED:20250818T190740Z
LAST-MODIFIED:20250818T190740Z
UID:10000092-1756288800-1756292400@www.studentchoicehighschool.com
SUMMARY:Maricopa: CAC Campus Event
DESCRIPTION:Maricopa: Central Arizona Community College Visit Flyer
URL:https://www.studentchoicehighschool.com/calendar-event/maricopa-cac-campus-event
END:VEVENT
BEGIN:VEVENT
DTSTART;TZID=America/Phoenix:20250826T104500
DTEND;TZID=America/Phoenix:20250826T123000
DTSTAMP:20260422T152552
CREATED:20250812T012247Z
LAST-MODIFIED:20250812T012247Z
UID:10000063-1756205100-1756211400@www.studentchoicehighschool.com
SUMMARY:OLC: Create a Winning Resume @ Arizona@Work
DESCRIPTION:Available online or in person.\nVisit the Arizona Works workshop page to register.\nOLC Event Flyer: Self and Career Exploration with Arizona @ Work
URL:https://www.studentchoicehighschool.com/calendar-event/olc-create-a-winning-resume-arizonawork-4
END:VEVENT
BEGIN:VEVENT
DTSTART;TZID=America/Phoenix:20250825T104500
DTEND;TZID=America/Phoenix:20250825T123000
DTSTAMP:20260422T152552
CREATED:20250812T232442Z
LAST-MODIFIED:20250812T232442Z
UID:10000076-1756118700-1756125000@www.studentchoicehighschool.com
SUMMARY:OLC: Self and Career Exploration @ Arizona@Work
DESCRIPTION:Available online or in person.\nVisit the Arizona @ Work Workshops website to register.\nOLC Event Flyer: Self and Career Exploration with Arizona @ Work.
URL:https://www.studentchoicehighschool.com/calendar-event/olc-self-and-career-exploration-arizonawork-3
END:VEVENT
BEGIN:VEVENT
DTSTART;TZID=America/Phoenix:20250821T104500
DTEND;TZID=America/Phoenix:20250821T123000
DTSTAMP:20260422T152552
CREATED:20250812T214901Z
LAST-MODIFIED:20250812T214901Z
UID:10000069-1755773100-1755779400@www.studentchoicehighschool.com
SUMMARY:OLC: Interview Skills for Success @ Arizona@Work
DESCRIPTION:Available online or in person.\nVisit the Arizona @ Work Workshop website to register.\nOLC Event Flyer: Self and Career Exploration with Arizona @ Work.
URL:https://www.studentchoicehighschool.com/calendar-event/olc-interview-skills-for-success-arizonawork-3
END:VEVENT
BEGIN:VEVENT
DTSTART;TZID=America/Phoenix:20250821T100000
DTEND;TZID=America/Phoenix:20250821T120000
DTSTAMP:20260422T152552
CREATED:20250812T235721Z
LAST-MODIFIED:20250812T235721Z
UID:10000082-1755770400-1755777600@www.studentchoicehighschool.com
SUMMARY:OLC: Wickenburg Hiring Event
DESCRIPTION:Visit the Arizona @ Work Wickenburg Hiring Event website to register.\nOLC Event Flyer: Self and Career Exploration with Arizona @ Work.
URL:https://www.studentchoicehighschool.com/calendar-event/olc-wickenburg-hiring-event
END:VEVENT
BEGIN:VEVENT
DTSTART;VALUE=DATE:20250821
DTEND;VALUE=DATE:20250822
DTSTAMP:20260422T152552
CREATED:20250812T235918Z
LAST-MODIFIED:20250818T185643Z
UID:10000083-1755734400-1755820799@www.studentchoicehighschool.com
SUMMARY:Yuma: Army Presentation on Campus
DESCRIPTION:10:00 to 11:00 a.m.\n2:00 to 3:00 p.m.\nYuma: Army Presentation on Campus Flyer
URL:https://www.studentchoicehighschool.com/calendar-event/yuma-army-presentation-on-campus
END:VEVENT
BEGIN:VEVENT
DTSTART;TZID=America/Phoenix:20250819T104500
DTEND;TZID=America/Phoenix:20250819T123000
DTSTAMP:20260422T152552
CREATED:20250812T011929Z
LAST-MODIFIED:20250812T012011Z
UID:10000062-1755600300-1755606600@www.studentchoicehighschool.com
SUMMARY:OLC: Create a Winning Resume @ Arizona@Work
DESCRIPTION:Available online or in person.\nVisit the Arizona Works workshop page to register.\nOLC Event Flyer: Self and Career Exploration with Arizona @ Work
URL:https://www.studentchoicehighschool.com/calendar-event/olc-create-a-winning-resume-arizonawork-3
END:VEVENT
BEGIN:VEVENT
DTSTART;TZID=America/Phoenix:20250818T104500
DTEND;TZID=America/Phoenix:20250818T123000
DTSTAMP:20260422T152552
CREATED:20250812T232015Z
LAST-MODIFIED:20250812T232015Z
UID:10000075-1755513900-1755520200@www.studentchoicehighschool.com
SUMMARY:OLC: Self and Career Exploration @ Arizona@Work
DESCRIPTION:Available online or in person.\nVisit the Arizona @ Work Workshops website to register.\nOLC Event Flyer: Self and Career Exploration with Arizona @ Work.
URL:https://www.studentchoicehighschool.com/calendar-event/olc-self-and-career-exploration-arizonawork-2
END:VEVENT
BEGIN:VEVENT
DTSTART;TZID=America/Phoenix:20250814T110000
DTEND;TZID=America/Phoenix:20250814T130000
DTSTAMP:20260422T152552
CREATED:20250812T235413Z
LAST-MODIFIED:20250812T235413Z
UID:10000081-1755169200-1755176400@www.studentchoicehighschool.com
SUMMARY:Maryvale: Back to School BBQ on Campus
DESCRIPTION:Maryvale: Back to School BBQ Flyer
URL:https://www.studentchoicehighschool.com/calendar-event/maryvale-back-to-school-bbq-on-campus
END:VEVENT
BEGIN:VEVENT
DTSTART;TZID=America/Phoenix:20250814T104500
DTEND;TZID=America/Phoenix:20250814T123000
DTSTAMP:20260422T152552
CREATED:20250812T214606Z
LAST-MODIFIED:20250812T214606Z
UID:10000068-1755168300-1755174600@www.studentchoicehighschool.com
SUMMARY:OLC: Interview Skills for Success @ Arizona@Work
DESCRIPTION:Available online or in person.\nVisit the Arizona @ Work Workshop website to register.\nOLC Event Flyer: Self and Career Exploration with Arizona @ Work.
URL:https://www.studentchoicehighschool.com/calendar-event/olc-interview-skills-for-success-arizonawork-2
END:VEVENT
END:VCALENDAR