BEGIN:VCALENDAR
VERSION:2.0
PRODID:-//Student Choice High School - ECPv6.15.17.1//NONSGML v1.0//EN
CALSCALE:GREGORIAN
METHOD:PUBLISH
X-WR-CALNAME:Student Choice High School
X-ORIGINAL-URL:https://www.studentchoicehighschool.com
X-WR-CALDESC:Events for Student Choice High School
REFRESH-INTERVAL;VALUE=DURATION:PT1H
X-Robots-Tag:noindex
X-PUBLISHED-TTL:PT1H
BEGIN:VTIMEZONE
TZID:America/Phoenix
BEGIN:STANDARD
TZOFFSETFROM:-0700
TZOFFSETTO:-0700
TZNAME:MST
DTSTART:20240101T000000
END:STANDARD
END:VTIMEZONE
BEGIN:VEVENT
DTSTART;VALUE=DATE:20251104
DTEND;VALUE=DATE:20251105
DTSTAMP:20260422T140041
CREATED:20251030T214352Z
LAST-MODIFIED:20251030T214352Z
UID:10000262-1762214400-1762300799@www.studentchoicehighschool.com
SUMMARY:Tempe: Police Interview
DESCRIPTION:
URL:https://www.studentchoicehighschool.com/calendar-event/tempe-police-interview
END:VEVENT
BEGIN:VEVENT
DTSTART;VALUE=DATE:20251104
DTEND;VALUE=DATE:20251105
DTSTAMP:20260422T140041
CREATED:20251030T214310Z
LAST-MODIFIED:20251030T214310Z
UID:10000261-1762214400-1762300799@www.studentchoicehighschool.com
SUMMARY:Yuma: GCU on Campus
DESCRIPTION:
URL:https://www.studentchoicehighschool.com/calendar-event/yuma-gcu-on-campus-2
END:VEVENT
BEGIN:VEVENT
DTSTART;VALUE=DATE:20251103
DTEND;VALUE=DATE:20251104
DTSTAMP:20260422T140041
CREATED:20251030T213626Z
LAST-MODIFIED:20251030T213626Z
UID:10000203-1762128000-1762214399@www.studentchoicehighschool.com
SUMMARY:Yuma: Marine Presentation
DESCRIPTION:
URL:https://www.studentchoicehighschool.com/calendar-event/yuma-marine-presentation
END:VEVENT
BEGIN:VEVENT
DTSTART;TZID=America/Phoenix:20251031T124500
DTEND;TZID=America/Phoenix:20251031T124500
DTSTAMP:20260422T140041
CREATED:20251009T153921Z
LAST-MODIFIED:20251009T153921Z
UID:10000139-1761914700-1761914700@www.studentchoicehighschool.com
SUMMARY:PM Late Start
DESCRIPTION:
URL:https://www.studentchoicehighschool.com/calendar-event/pm-late-start-6
END:VEVENT
BEGIN:VEVENT
DTSTART;TZID=America/Phoenix:20251031T114500
DTEND;TZID=America/Phoenix:20251031T144500
DTSTAMP:20260422T140041
CREATED:20251022T033720Z
LAST-MODIFIED:20251022T033720Z
UID:10000170-1761911100-1761921900@www.studentchoicehighschool.com
SUMMARY:Maryvale: Halloween Extraveganza
DESCRIPTION:
URL:https://www.studentchoicehighschool.com/calendar-event/maryvale-halloween-extraveganza-2
END:VEVENT
BEGIN:VEVENT
DTSTART;TZID=America/Phoenix:20251031T101500
DTEND;TZID=America/Phoenix:20251031T101500
DTSTAMP:20260422T140041
CREATED:20251008T213016Z
LAST-MODIFIED:20251008T213016Z
UID:10000138-1761905700-1761905700@www.studentchoicehighschool.com
SUMMARY:AM Early Release
DESCRIPTION:
URL:https://www.studentchoicehighschool.com/calendar-event/am-early-release-6
END:VEVENT
BEGIN:VEVENT
DTSTART;TZID=America/Phoenix:20251031T071500
DTEND;TZID=America/Phoenix:20251031T101500
DTSTAMP:20260422T140041
CREATED:20251022T033717Z
LAST-MODIFIED:20251022T033717Z
UID:10000169-1761894900-1761905700@www.studentchoicehighschool.com
SUMMARY:Maryvale: Halloween Extraveganza
DESCRIPTION:
URL:https://www.studentchoicehighschool.com/calendar-event/maryvale-halloween-extraveganza
END:VEVENT
BEGIN:VEVENT
DTSTART;VALUE=DATE:20251031
DTEND;VALUE=DATE:20251101
DTSTAMP:20260422T140041
CREATED:20251022T033724Z
LAST-MODIFIED:20251022T033724Z
UID:10000172-1761868800-1761955199@www.studentchoicehighschool.com
SUMMARY:Yuma: Fun Friday
DESCRIPTION:
URL:https://www.studentchoicehighschool.com/calendar-event/yuma-fun-friday
END:VEVENT
BEGIN:VEVENT
DTSTART;VALUE=DATE:20251031
DTEND;VALUE=DATE:20251101
DTSTAMP:20260422T140041
CREATED:20251022T033722Z
LAST-MODIFIED:20251022T033722Z
UID:10000171-1761868800-1761955199@www.studentchoicehighschool.com
SUMMARY:Surprise: Halloween Family Feud
DESCRIPTION:
URL:https://www.studentchoicehighschool.com/calendar-event/surprise-halloween-family-feud
END:VEVENT
BEGIN:VEVENT
DTSTART;TZID=America/Phoenix:20251030T090000
DTEND;TZID=America/Phoenix:20251030T110000
DTSTAMP:20260422T140041
CREATED:20250923T052802Z
LAST-MODIFIED:20250923T052802Z
UID:10000133-1761814800-1761822000@www.studentchoicehighschool.com
SUMMARY:Tempe: Donuts with the Principal
DESCRIPTION:
URL:https://www.studentchoicehighschool.com/calendar-event/tempe-donuts-with-the-principal/2025-10-30
END:VEVENT
BEGIN:VEVENT
DTSTART;VALUE=DATE:20251030
DTEND;VALUE=DATE:20251031
DTSTAMP:20260422T140041
CREATED:20251008T212910Z
LAST-MODIFIED:20251008T212910Z
UID:10000137-1761782400-1761868799@www.studentchoicehighschool.com
SUMMARY:End of First Trimester
DESCRIPTION:
URL:https://www.studentchoicehighschool.com/calendar-event/end-of-first-trimester
END:VEVENT
BEGIN:VEVENT
DTSTART;TZID=America/Phoenix:20251029T071500
DTEND;TZID=America/Phoenix:20251029T111500
DTSTAMP:20260422T140041
CREATED:20250923T052611Z
LAST-MODIFIED:20250923T052611Z
UID:10000128-1761722100-1761736500@www.studentchoicehighschool.com
SUMMARY:Surprise: Service Learning Adopt-a-Street
DESCRIPTION:
URL:https://www.studentchoicehighschool.com/calendar-event/surprise-service-learning-adopt-a-street-2/2025-10-29
END:VEVENT
BEGIN:VEVENT
DTSTART;VALUE=DATE:20251029
DTEND;VALUE=DATE:20251030
DTSTAMP:20260422T140041
CREATED:20251022T033726Z
LAST-MODIFIED:20251022T033726Z
UID:10000173-1761696000-1761782399@www.studentchoicehighschool.com
SUMMARY:Tempe: Costume Party/Halloween Bash
DESCRIPTION:
URL:https://www.studentchoicehighschool.com/calendar-event/tempe-costume-party-halloween-bash
END:VEVENT
BEGIN:VEVENT
DTSTART;TZID=America/Phoenix:20251028T090000
DTEND;TZID=America/Phoenix:20251028T110000
DTSTAMP:20260422T140041
CREATED:20251022T033838Z
LAST-MODIFIED:20251022T033838Z
UID:10000174-1761642000-1761649200@www.studentchoicehighschool.com
SUMMARY:Yuma: Car Dealer Presentation on Campus
DESCRIPTION:
URL:https://www.studentchoicehighschool.com/calendar-event/yuma-car-dealer-presentation-on-campus
END:VEVENT
BEGIN:VEVENT
DTSTART;TZID=America/Phoenix:20251027T170000
DTEND;TZID=America/Phoenix:20251027T170000
DTSTAMP:20260422T140041
CREATED:20251022T033842Z
LAST-MODIFIED:20251022T033842Z
UID:10000176-1761584400-1761584400@www.studentchoicehighschool.com
SUMMARY:Maryvale: YMCA Sponsered Trunk or Treat
DESCRIPTION:
URL:https://www.studentchoicehighschool.com/calendar-event/maryvale-ymca-sponsered-trunk-or-treat
END:VEVENT
BEGIN:VEVENT
DTSTART;VALUE=DATE:20251027
DTEND;VALUE=DATE:20251028
DTSTAMP:20260422T140041
CREATED:20251022T033846Z
LAST-MODIFIED:20251022T033846Z
UID:10000178-1761523200-1761609599@www.studentchoicehighschool.com
SUMMARY:Maryvale: Truck or Treat\, Student Art Fair\, Student Economics Projects
DESCRIPTION:
URL:https://www.studentchoicehighschool.com/calendar-event/maryvale-truck-or-treat-student-art-fair-student-economics-projects
END:VEVENT
BEGIN:VEVENT
DTSTART;VALUE=DATE:20251027
DTEND;VALUE=DATE:20251028
DTSTAMP:20260422T140041
CREATED:20251022T033844Z
LAST-MODIFIED:20251022T033844Z
UID:10000177-1761523200-1761609599@www.studentchoicehighschool.com
SUMMARY:Yuma: Spirit Week
DESCRIPTION:
URL:https://www.studentchoicehighschool.com/calendar-event/yuma-spirit-week-2
END:VEVENT
BEGIN:VEVENT
DTSTART;VALUE=DATE:20251027
DTEND;VALUE=DATE:20251028
DTSTAMP:20260422T140041
CREATED:20251022T033840Z
LAST-MODIFIED:20251022T033840Z
UID:10000175-1761523200-1761609599@www.studentchoicehighschool.com
SUMMARY:Halloween Spirit Week
DESCRIPTION:
URL:https://www.studentchoicehighschool.com/calendar-event/halloween-spirit-week
END:VEVENT
BEGIN:VEVENT
DTSTART;VALUE=DATE:20251024
DTEND;VALUE=DATE:20251025
DTSTAMP:20260422T140041
CREATED:20251022T034040Z
LAST-MODIFIED:20251022T034040Z
UID:10000179-1761264000-1761350399@www.studentchoicehighschool.com
SUMMARY:CTE Service Learning
DESCRIPTION:
URL:https://www.studentchoicehighschool.com/calendar-event/cte-service-learning
END:VEVENT
BEGIN:VEVENT
DTSTART;TZID=America/Phoenix:20251023T071500
DTEND;TZID=America/Phoenix:20251023T133000
DTSTAMP:20260422T140041
CREATED:20251022T034042Z
LAST-MODIFIED:20251022T034042Z
UID:10000180-1761203700-1761226200@www.studentchoicehighschool.com
SUMMARY:Central Arizona College Skilled Trade Expo
DESCRIPTION:
URL:https://www.studentchoicehighschool.com/calendar-event/central-arizona-college-skilled-trade-expo
END:VEVENT
BEGIN:VEVENT
DTSTART;TZID=America/Phoenix:20251022T160000
DTEND;TZID=America/Phoenix:20251022T190000
DTSTAMP:20260422T140041
CREATED:20251021T043746Z
LAST-MODIFIED:20251021T043746Z
UID:10000168-1761148800-1761159600@www.studentchoicehighschool.com
SUMMARY:Cram your Courses
DESCRIPTION:
URL:https://www.studentchoicehighschool.com/calendar-event/cram-your-courses
LOCATION:Tempe Campus
END:VEVENT
BEGIN:VEVENT
DTSTART;TZID=America/Phoenix:20251022T110000
DTEND;TZID=America/Phoenix:20251022T130000
DTSTAMP:20260422T140041
CREATED:20251022T034044Z
LAST-MODIFIED:20251022T034044Z
UID:10000181-1761130800-1761138000@www.studentchoicehighschool.com
SUMMARY:Peoria: College and Career Fair
DESCRIPTION:
URL:https://www.studentchoicehighschool.com/calendar-event/peoria-college-and-career-fair
END:VEVENT
BEGIN:VEVENT
DTSTART;TZID=America/Phoenix:20251021T090000
DTEND;TZID=America/Phoenix:20251021T110000
DTSTAMP:20260422T140041
CREATED:20251022T034046Z
LAST-MODIFIED:20251022T034046Z
UID:10000182-1761037200-1761044400@www.studentchoicehighschool.com
SUMMARY:Tempe: GCU Workshop
DESCRIPTION:
URL:https://www.studentchoicehighschool.com/calendar-event/tempe-gcu-workshop
END:VEVENT
BEGIN:VEVENT
DTSTART;VALUE=DATE:20251020
DTEND;VALUE=DATE:20251021
DTSTAMP:20260422T140041
CREATED:20251022T034048Z
LAST-MODIFIED:20251022T034048Z
UID:10000183-1760918400-1761004799@www.studentchoicehighschool.com
SUMMARY:Maryvale: Spirit Week
DESCRIPTION:
URL:https://www.studentchoicehighschool.com/calendar-event/maryvale-spirit-week-3
END:VEVENT
BEGIN:VEVENT
DTSTART;VALUE=DATE:20251018
DTEND;VALUE=DATE:20251019
DTSTAMP:20260422T140041
CREATED:20251022T034241Z
LAST-MODIFIED:20251022T034241Z
UID:10000184-1760745600-1760831999@www.studentchoicehighschool.com
SUMMARY:OLC: Arizona Culinary Institute Open House
DESCRIPTION:
URL:https://www.studentchoicehighschool.com/calendar-event/olc-arizona-culinary-institute-open-house
END:VEVENT
BEGIN:VEVENT
DTSTART;TZID=America/Phoenix:20251017T120000
DTEND;TZID=America/Phoenix:20251017T130000
DTSTAMP:20260422T140041
CREATED:20251022T034246Z
LAST-MODIFIED:20251022T034246Z
UID:10000186-1760702400-1760706000@www.studentchoicehighschool.com
SUMMARY:Junk Journaling with Bob
DESCRIPTION:
URL:https://www.studentchoicehighschool.com/calendar-event/junk-journaling-with-bob
END:VEVENT
BEGIN:VEVENT
DTSTART;TZID=America/Phoenix:20251017T101500
DTEND;TZID=America/Phoenix:20251017T120000
DTSTAMP:20260422T140041
CREATED:20251022T034243Z
LAST-MODIFIED:20251022T034243Z
UID:10000185-1760696100-1760702400@www.studentchoicehighschool.com
SUMMARY:Hearing and Vision Screening for Yuma/San Luis
DESCRIPTION:
URL:https://www.studentchoicehighschool.com/calendar-event/hearing-and-vision-screening-for-yuma-san-luis
END:VEVENT
BEGIN:VEVENT
DTSTART;TZID=America/Phoenix:20251016T180000
DTEND;TZID=America/Phoenix:20251016T200000
DTSTAMP:20260422T140041
CREATED:20251022T034249Z
LAST-MODIFIED:20251022T034249Z
UID:10000188-1760637600-1760644800@www.studentchoicehighschool.com
SUMMARY:Surprise: Senior Night
DESCRIPTION:
URL:https://www.studentchoicehighschool.com/calendar-event/surprise-senior-night
END:VEVENT
BEGIN:VEVENT
DTSTART;TZID=America/Phoenix:20251016T130000
DTEND;TZID=America/Phoenix:20251016T143000
DTSTAMP:20260422T140041
CREATED:20251022T034247Z
LAST-MODIFIED:20251022T034247Z
UID:10000187-1760619600-1760625000@www.studentchoicehighschool.com
SUMMARY:Maryvale: Financial Literacy Budgeting on Campus
DESCRIPTION:
URL:https://www.studentchoicehighschool.com/calendar-event/maryvale-financial-literacy-budgeting-on-campus
END:VEVENT
BEGIN:VEVENT
DTSTART;VALUE=DATE:20251016
DTEND;VALUE=DATE:20251017
DTSTAMP:20260422T140041
CREATED:20251022T034337Z
LAST-MODIFIED:20251022T034337Z
UID:10000189-1760572800-1760659199@www.studentchoicehighschool.com
SUMMARY:Yuma: Real Estate Agent Presentation
DESCRIPTION:
URL:https://www.studentchoicehighschool.com/calendar-event/yuma-real-estate-agent-presentation
END:VEVENT
END:VCALENDAR