BEGIN:VCALENDAR
VERSION:2.0
PRODID:-//Student Choice High School - ECPv6.15.17.1//NONSGML v1.0//EN
CALSCALE:GREGORIAN
METHOD:PUBLISH
X-ORIGINAL-URL:https://www.studentchoicehighschool.com
X-WR-CALDESC:Events for Student Choice High School
REFRESH-INTERVAL;VALUE=DURATION:PT1H
X-Robots-Tag:noindex
X-PUBLISHED-TTL:PT1H
BEGIN:VTIMEZONE
TZID:America/Phoenix
BEGIN:STANDARD
TZOFFSETFROM:-0700
TZOFFSETTO:-0700
TZNAME:MST
DTSTART:20250101T000000
END:STANDARD
END:VTIMEZONE
BEGIN:VEVENT
DTSTART;TZID=America/Phoenix:20260326T100000
DTEND;TZID=America/Phoenix:20260326T110000
DTSTAMP:20260423T025236
CREATED:20260304T171848Z
LAST-MODIFIED:20260304T171848Z
UID:10000363-1774519200-1774522800@www.studentchoicehighschool.com
SUMMARY:Kroc: Turning Point Beauty College
DESCRIPTION:
URL:https://www.studentchoicehighschool.com/calendar-event/kroc-turning-point-beauty-college
END:VEVENT
END:VCALENDAR