BEGIN:VCALENDAR
VERSION:2.0
PRODID:-//Student Choice High School - ECPv6.15.17.1//NONSGML v1.0//EN
CALSCALE:GREGORIAN
METHOD:PUBLISH
X-ORIGINAL-URL:https://www.studentchoicehighschool.com
X-WR-CALDESC:Events for Student Choice High School
REFRESH-INTERVAL;VALUE=DURATION:PT1H
X-Robots-Tag:noindex
X-PUBLISHED-TTL:PT1H
BEGIN:VTIMEZONE
TZID:America/Phoenix
BEGIN:STANDARD
TZOFFSETFROM:-0700
TZOFFSETTO:-0700
TZNAME:MST
DTSTART:20250101T000000
END:STANDARD
END:VTIMEZONE
BEGIN:VEVENT
DTSTART;VALUE=DATE:20260224
DTEND;VALUE=DATE:20260225
DTSTAMP:20260423T040816
CREATED:20260128T204247Z
LAST-MODIFIED:20260128T204247Z
UID:10000355-1771891200-1771977599@www.studentchoicehighschool.com
SUMMARY:Maryvale: Coffee Haus
DESCRIPTION:
URL:https://www.studentchoicehighschool.com/calendar-event/maryvale-coffee-haus-2
LOCATION:Maryvale Campus
END:VEVENT
BEGIN:VEVENT
DTSTART;TZID=America/Phoenix:20260224T103000
DTEND;TZID=America/Phoenix:20260224T123000
DTSTAMP:20260423T040816
CREATED:20260128T200257Z
LAST-MODIFIED:20260128T200257Z
UID:10000334-1771929000-1771936200@www.studentchoicehighschool.com
SUMMARY:OLC: Arizona@ Work - Create a Winning Resume Webinar
DESCRIPTION:Virtual and In-Person \nOLC Events Flyer
URL:https://www.studentchoicehighschool.com/calendar-event/olc-arizona-work-create-a-winning-resume-webinar-3
END:VEVENT
END:VCALENDAR