BEGIN:VCALENDAR
VERSION:2.0
PRODID:-//Student Choice High School - ECPv6.15.17.1//NONSGML v1.0//EN
CALSCALE:GREGORIAN
METHOD:PUBLISH
X-ORIGINAL-URL:https://www.studentchoicehighschool.com
X-WR-CALDESC:Events for Student Choice High School
REFRESH-INTERVAL;VALUE=DURATION:PT1H
X-Robots-Tag:noindex
X-PUBLISHED-TTL:PT1H
BEGIN:VTIMEZONE
TZID:America/Phoenix
BEGIN:STANDARD
TZOFFSETFROM:-0700
TZOFFSETTO:-0700
TZNAME:MST
DTSTART:20250101T000000
END:STANDARD
END:VTIMEZONE
BEGIN:VEVENT
DTSTART;VALUE=DATE:20260209
DTEND;VALUE=DATE:20260214
DTSTAMP:20260423T052420
CREATED:20260128T201935Z
LAST-MODIFIED:20260128T201935Z
UID:10000344-1770595200-1771027199@www.studentchoicehighschool.com
SUMMARY:Yuma: Love Your Career Week
DESCRIPTION:
URL:https://www.studentchoicehighschool.com/calendar-event/yuma-love-your-career-week
END:VEVENT
BEGIN:VEVENT
DTSTART;VALUE=DATE:20260213
DTEND;VALUE=DATE:20260214
DTSTAMP:20260423T052420
CREATED:20260128T201750Z
LAST-MODIFIED:20260128T201750Z
UID:10000343-1770940800-1771027199@www.studentchoicehighschool.com
SUMMARY:Maryvale Workshop Week: Cooking Class
DESCRIPTION:Maryvale Workshop Week Flyer
URL:https://www.studentchoicehighschool.com/calendar-event/maryvale-workshop-week-cooking-class
END:VEVENT
BEGIN:VEVENT
DTSTART;VALUE=DATE:20260213
DTEND;VALUE=DATE:20260214
DTSTAMP:20260423T052420
CREATED:20260128T203552Z
LAST-MODIFIED:20260128T203552Z
UID:10000350-1770940800-1771027199@www.studentchoicehighschool.com
SUMMARY:Maryvale: Trivia with Kroc
DESCRIPTION:
URL:https://www.studentchoicehighschool.com/calendar-event/maryvale-trivia-with-kroc
END:VEVENT
BEGIN:VEVENT
DTSTART;VALUE=DATE:20260213
DTEND;VALUE=DATE:20260214
DTSTAMP:20260423T052420
CREATED:20260128T203655Z
LAST-MODIFIED:20260128T203655Z
UID:10000351-1770940800-1771027199@www.studentchoicehighschool.com
SUMMARY:Kroc: Trivia with Maryvale
DESCRIPTION:
URL:https://www.studentchoicehighschool.com/calendar-event/kroc-trivia-with-maryvale
END:VEVENT
BEGIN:VEVENT
DTSTART;TZID=America/Phoenix:20260213T100000
DTEND;TZID=America/Phoenix:20260213T120000
DTSTAMP:20260423T052420
CREATED:20251123T230725Z
LAST-MODIFIED:20251123T230725Z
UID:10000289-1770976800-1770984000@www.studentchoicehighschool.com
SUMMARY:Glendale: Get Paid to Graduate Workshop
DESCRIPTION:FAFSA and Funds Flyer
URL:https://www.studentchoicehighschool.com/calendar-event/glendale-get-paid-to-graduate-workshop
END:VEVENT
END:VCALENDAR