BEGIN:VCALENDAR
VERSION:2.0
PRODID:-//Student Choice High School - ECPv6.15.17.1//NONSGML v1.0//EN
CALSCALE:GREGORIAN
METHOD:PUBLISH
X-ORIGINAL-URL:https://www.studentchoicehighschool.com
X-WR-CALDESC:Events for Student Choice High School
REFRESH-INTERVAL;VALUE=DURATION:PT1H
X-Robots-Tag:noindex
X-PUBLISHED-TTL:PT1H
BEGIN:VTIMEZONE
TZID:America/Phoenix
BEGIN:STANDARD
TZOFFSETFROM:-0700
TZOFFSETTO:-0700
TZNAME:MST
DTSTART:20250101T000000
END:STANDARD
END:VTIMEZONE
BEGIN:VEVENT
DTSTART;VALUE=DATE:20260209
DTEND;VALUE=DATE:20260214
DTSTAMP:20260423T064756
CREATED:20260128T201935Z
LAST-MODIFIED:20260128T201935Z
UID:10000344-1770595200-1771027199@www.studentchoicehighschool.com
SUMMARY:Yuma: Love Your Career Week
DESCRIPTION:
URL:https://www.studentchoicehighschool.com/calendar-event/yuma-love-your-career-week
END:VEVENT
BEGIN:VEVENT
DTSTART;VALUE=DATE:20260210
DTEND;VALUE=DATE:20260211
DTSTAMP:20260423T064756
CREATED:20260128T201330Z
LAST-MODIFIED:20260128T201330Z
UID:10000340-1770681600-1770767999@www.studentchoicehighschool.com
SUMMARY:Maryvale Workshop Week: Nail Stamping
DESCRIPTION:Maryvale Workshop Week Flyer
URL:https://www.studentchoicehighschool.com/calendar-event/maryvale-workshop-week-nail-stamping
END:VEVENT
BEGIN:VEVENT
DTSTART;TZID=America/Phoenix:20260210T101500
DTEND;TZID=America/Phoenix:20260210T101500
DTSTAMP:20260423T064756
CREATED:20260128T202118Z
LAST-MODIFIED:20260128T202510Z
UID:10000345-1770718500-1770718500@www.studentchoicehighschool.com
SUMMARY:Maricopa: Central Arizona Community College Visit - Session 1
DESCRIPTION:Central Arizona Community College Visit Flyer
URL:https://www.studentchoicehighschool.com/calendar-event/maricopa-central-arizona-community-college-visit-session-1
END:VEVENT
BEGIN:VEVENT
DTSTART;TZID=America/Phoenix:20260210T103000
DTEND;TZID=America/Phoenix:20260210T123000
DTSTAMP:20260423T064756
CREATED:20260128T200151Z
LAST-MODIFIED:20260128T200151Z
UID:10000333-1770719400-1770726600@www.studentchoicehighschool.com
SUMMARY:OLC: Arizona@ Work - Create a Winning Resume Webinar
DESCRIPTION:Virtual and In-Person \nOLC Events Flyer
URL:https://www.studentchoicehighschool.com/calendar-event/olc-arizona-work-create-a-winning-resume-webinar-2
END:VEVENT
BEGIN:VEVENT
DTSTART;TZID=America/Phoenix:20260210T114500
DTEND;TZID=America/Phoenix:20260210T114500
DTSTAMP:20260423T064756
CREATED:20260128T202317Z
LAST-MODIFIED:20260128T202317Z
UID:10000346-1770723900-1770723900@www.studentchoicehighschool.com
SUMMARY:Maricopa: Central Arizona Community College Visit - Session 2
DESCRIPTION:Central Arizona Community College Visit Flyer
URL:https://www.studentchoicehighschool.com/calendar-event/maricopa-central-arizona-community-college-visit-session-2
END:VEVENT
END:VCALENDAR