BEGIN:VCALENDAR
VERSION:2.0
PRODID:-//Student Choice High School - ECPv6.15.17.1//NONSGML v1.0//EN
CALSCALE:GREGORIAN
METHOD:PUBLISH
X-WR-CALNAME:Student Choice High School
X-ORIGINAL-URL:https://www.studentchoicehighschool.com
X-WR-CALDESC:Events for Student Choice High School
REFRESH-INTERVAL;VALUE=DURATION:PT1H
X-Robots-Tag:noindex
X-PUBLISHED-TTL:PT1H
BEGIN:VTIMEZONE
TZID:America/Phoenix
BEGIN:STANDARD
TZOFFSETFROM:-0700
TZOFFSETTO:-0700
TZNAME:MST
DTSTART:20250101T000000
END:STANDARD
END:VTIMEZONE
BEGIN:VEVENT
DTSTART;VALUE=DATE:20260126
DTEND;VALUE=DATE:20260131
DTSTAMP:20260423T063338
CREATED:20251219T203351Z
LAST-MODIFIED:20251219T203351Z
UID:10000325-1769385600-1769817599@www.studentchoicehighschool.com
SUMMARY:Yuma: Spirit Week
DESCRIPTION:Yuma Dress Up Days Flyer
URL:https://www.studentchoicehighschool.com/calendar-event/yuma-spirit-week-3
END:VEVENT
BEGIN:VEVENT
DTSTART;VALUE=DATE:20260128
DTEND;VALUE=DATE:20260129
DTSTAMP:20260423T063338
CREATED:20260128T202922Z
LAST-MODIFIED:20260128T202922Z
UID:10000347-1769558400-1769644799@www.studentchoicehighschool.com
SUMMARY:Peoria: College and Career Fair
DESCRIPTION:
URL:https://www.studentchoicehighschool.com/calendar-event/peoria-college-and-career-fair-2
LOCATION:Peoria Campus
END:VEVENT
BEGIN:VEVENT
DTSTART;TZID=America/Phoenix:20260128T071500
DTEND;TZID=America/Phoenix:20260128T111500
DTSTAMP:20260423T063338
CREATED:20250923T052611Z
LAST-MODIFIED:20250923T052611Z
UID:10000130-1769584500-1769598900@www.studentchoicehighschool.com
SUMMARY:Surprise: Service Learning Adopt-a-Street
DESCRIPTION:
URL:https://www.studentchoicehighschool.com/calendar-event/surprise-service-learning-adopt-a-street-2/2026-01-28
END:VEVENT
END:VCALENDAR