BEGIN:VCALENDAR
VERSION:2.0
PRODID:-//Student Choice High School - ECPv6.15.17.1//NONSGML v1.0//EN
CALSCALE:GREGORIAN
METHOD:PUBLISH
X-ORIGINAL-URL:https://www.studentchoicehighschool.com
X-WR-CALDESC:Events for Student Choice High School
REFRESH-INTERVAL;VALUE=DURATION:PT1H
X-Robots-Tag:noindex
X-PUBLISHED-TTL:PT1H
BEGIN:VTIMEZONE
TZID:America/Phoenix
BEGIN:STANDARD
TZOFFSETFROM:-0700
TZOFFSETTO:-0700
TZNAME:MST
DTSTART:20250101T000000
END:STANDARD
END:VTIMEZONE
BEGIN:VEVENT
DTSTART;TZID=America/Phoenix:20260113T101500
DTEND;TZID=America/Phoenix:20260113T120000
DTSTAMP:20260423T071007
CREATED:20251219T201454Z
LAST-MODIFIED:20251219T201454Z
UID:10000313-1768299300-1768305600@www.studentchoicehighschool.com
SUMMARY:Yuma: Border Patrol Guest Speaker
DESCRIPTION:Border Patrol Guest Speaker Flyer
URL:https://www.studentchoicehighschool.com/calendar-event/yuma-border-patrol-guest-speaker
END:VEVENT
BEGIN:VEVENT
DTSTART;TZID=America/Phoenix:20260113T113000
DTEND;TZID=America/Phoenix:20260113T120000
DTSTAMP:20260423T071008
CREATED:20251219T201240Z
LAST-MODIFIED:20251219T201240Z
UID:10000312-1768303800-1768305600@www.studentchoicehighschool.com
SUMMARY:Tempe: College Essay Workshop
DESCRIPTION:College Essay Writing Workshop Flyer – Tempe
URL:https://www.studentchoicehighschool.com/calendar-event/tempe-college-essay-workshop
LOCATION:1833 N SCOTTSDALE RD\, TEMPE AZ 85288
END:VEVENT
END:VCALENDAR