BEGIN:VCALENDAR
VERSION:2.0
PRODID:-//Student Choice High School - ECPv6.15.17.1//NONSGML v1.0//EN
CALSCALE:GREGORIAN
METHOD:PUBLISH
X-WR-CALNAME:Student Choice High School
X-ORIGINAL-URL:https://www.studentchoicehighschool.com
X-WR-CALDESC:Events for Student Choice High School
REFRESH-INTERVAL;VALUE=DURATION:PT1H
X-Robots-Tag:noindex
X-PUBLISHED-TTL:PT1H
BEGIN:VTIMEZONE
TZID:America/Phoenix
BEGIN:STANDARD
TZOFFSETFROM:-0700
TZOFFSETTO:-0700
TZNAME:MST
DTSTART:20240101T000000
END:STANDARD
END:VTIMEZONE
BEGIN:VEVENT
DTSTART;VALUE=DATE:20251215
DTEND;VALUE=DATE:20251220
DTSTAMP:20260423T224402
CREATED:20251123T225723Z
LAST-MODIFIED:20251123T225723Z
UID:10000283-1765756800-1766188799@www.studentchoicehighschool.com
SUMMARY:Tempe: Holiday Spirit Week
DESCRIPTION:Holiday Spirit Week Flyer
URL:https://www.studentchoicehighschool.com/calendar-event/tempe-holiday-spirit-week
END:VEVENT
BEGIN:VEVENT
DTSTART;VALUE=DATE:20251215
DTEND;VALUE=DATE:20251220
DTSTAMP:20260423T224402
CREATED:20251123T230837Z
LAST-MODIFIED:20251123T230837Z
UID:10000290-1765756800-1766188799@www.studentchoicehighschool.com
SUMMARY:Yuma: Christmas Spirit Week
DESCRIPTION:Christmas Spirit Week Flyer
URL:https://www.studentchoicehighschool.com/calendar-event/yuma-christmas-spirit-week
END:VEVENT
BEGIN:VEVENT
DTSTART;TZID=America/Phoenix:20251216T091500
DTEND;TZID=America/Phoenix:20251216T091500
DTSTAMP:20260423T224402
CREATED:20251123T230102Z
LAST-MODIFIED:20251123T230102Z
UID:10000284-1765876500-1765876500@www.studentchoicehighschool.com
SUMMARY:Maricopa: Christmas Cards for Seniors
DESCRIPTION:Christmas Cards for Seniors Flyer
URL:https://www.studentchoicehighschool.com/calendar-event/maricopa-christmas-cards-for-seniors
END:VEVENT
BEGIN:VEVENT
DTSTART;TZID=America/Phoenix:20251216T100000
DTEND;TZID=America/Phoenix:20251216T120000
DTSTAMP:20260423T224402
CREATED:20251208T140335Z
LAST-MODIFIED:20251208T140335Z
UID:10000310-1765879200-1765886400@www.studentchoicehighschool.com
SUMMARY:West Valley Hiring Event
DESCRIPTION:West Valley Hiring Event Flyer
URL:https://www.studentchoicehighschool.com/calendar-event/west-valley-hiring-event
LOCATION:3406 North 51st Avenue\, Phoenix\, AZ 85031
END:VEVENT
BEGIN:VEVENT
DTSTART;TZID=America/Phoenix:20251216T141500
DTEND;TZID=America/Phoenix:20251216T141500
DTSTAMP:20260423T224402
CREATED:20251123T230220Z
LAST-MODIFIED:20251123T230220Z
UID:10000285-1765894500-1765894500@www.studentchoicehighschool.com
SUMMARY:Maricopa: Christmas Cards for Seniors
DESCRIPTION:Christmas Cards for Seniors Flyer
URL:https://www.studentchoicehighschool.com/calendar-event/maricopa-christmas-cards-for-seniors-2
END:VEVENT
END:VCALENDAR