BEGIN:VCALENDAR
VERSION:2.0
PRODID:-//Student Choice High School - ECPv6.15.17.1//NONSGML v1.0//EN
CALSCALE:GREGORIAN
METHOD:PUBLISH
X-WR-CALNAME:Student Choice High School
X-ORIGINAL-URL:https://www.studentchoicehighschool.com
X-WR-CALDESC:Events for Student Choice High School
REFRESH-INTERVAL;VALUE=DURATION:PT1H
X-Robots-Tag:noindex
X-PUBLISHED-TTL:PT1H
BEGIN:VTIMEZONE
TZID:America/Phoenix
BEGIN:STANDARD
TZOFFSETFROM:-0700
TZOFFSETTO:-0700
TZNAME:MST
DTSTART:20240101T000000
END:STANDARD
END:VTIMEZONE
BEGIN:VEVENT
DTSTART;VALUE=DATE:20251211
DTEND;VALUE=DATE:20251212
DTSTAMP:20260424T055403
CREATED:20251123T232423Z
LAST-MODIFIED:20251123T232423Z
UID:10000304-1765411200-1765497599@www.studentchoicehighschool.com
SUMMARY:Suprise: PIMA Presentation
DESCRIPTION:
URL:https://www.studentchoicehighschool.com/calendar-event/suprise-pima-presentation
END:VEVENT
BEGIN:VEVENT
DTSTART;TZID=America/Phoenix:20251211T130000
DTEND;TZID=America/Phoenix:20251211T143000
DTSTAMP:20260424T055403
CREATED:20250901T002300Z
LAST-MODIFIED:20250901T010002Z
UID:10000100-1765458000-1765463400@www.studentchoicehighschool.com
SUMMARY:Maryvale: Little Steps\, Big Dreams
DESCRIPTION:
URL:https://www.studentchoicehighschool.com/calendar-event/little-steps-big-dreams-at-maryvale/2025-12-11
LOCATION:Maryvale Campus
END:VEVENT
END:VCALENDAR