BEGIN:VCALENDAR
VERSION:2.0
PRODID:-//Student Choice High School - ECPv6.15.17.1//NONSGML v1.0//EN
CALSCALE:GREGORIAN
METHOD:PUBLISH
X-ORIGINAL-URL:https://www.studentchoicehighschool.com
X-WR-CALDESC:Events for Student Choice High School
REFRESH-INTERVAL;VALUE=DURATION:PT1H
X-Robots-Tag:noindex
X-PUBLISHED-TTL:PT1H
BEGIN:VTIMEZONE
TZID:America/Phoenix
BEGIN:STANDARD
TZOFFSETFROM:-0700
TZOFFSETTO:-0700
TZNAME:MST
DTSTART:20240101T000000
END:STANDARD
END:VTIMEZONE
BEGIN:VEVENT
DTSTART;TZID=America/Phoenix:20251205T081500
DTEND;TZID=America/Phoenix:20251205T081500
DTSTAMP:20260425T071351
CREATED:20251123T232011Z
LAST-MODIFIED:20251123T232011Z
UID:10000299-1764922500-1764922500@www.studentchoicehighschool.com
SUMMARY:Peoria: ASVAB Testing
DESCRIPTION:
URL:https://www.studentchoicehighschool.com/calendar-event/peoria-asvab-testing
END:VEVENT
BEGIN:VEVENT
DTSTART;TZID=America/Phoenix:20251205T100000
DTEND;TZID=America/Phoenix:20251205T120000
DTSTAMP:20260425T071351
CREATED:20251123T230500Z
LAST-MODIFIED:20251123T230500Z
UID:10000287-1764928800-1764936000@www.studentchoicehighschool.com
SUMMARY:Glendale: College Money Made Simple Workshop
DESCRIPTION:FAFSA and Funds Flyer
URL:https://www.studentchoicehighschool.com/calendar-event/glendale-college-money-made-simple-workshop
END:VEVENT
BEGIN:VEVENT
DTSTART;TZID=America/Phoenix:20251205T180000
DTEND;TZID=America/Phoenix:20251205T200000
DTSTAMP:20260425T071351
CREATED:20251123T231915Z
LAST-MODIFIED:20251123T231915Z
UID:10000298-1764957600-1764964800@www.studentchoicehighschool.com
SUMMARY:Glendale: Twas the Fifth Before Christmas
DESCRIPTION:
URL:https://www.studentchoicehighschool.com/calendar-event/glendale-twas-the-fifth-before-christmas
END:VEVENT
END:VCALENDAR