BEGIN:VCALENDAR
VERSION:2.0
PRODID:-//Student Choice High School - ECPv6.15.17.1//NONSGML v1.0//EN
CALSCALE:GREGORIAN
METHOD:PUBLISH
X-ORIGINAL-URL:https://www.studentchoicehighschool.com
X-WR-CALDESC:Events for Student Choice High School
REFRESH-INTERVAL;VALUE=DURATION:PT1H
X-Robots-Tag:noindex
X-PUBLISHED-TTL:PT1H
BEGIN:VTIMEZONE
TZID:America/Phoenix
BEGIN:STANDARD
TZOFFSETFROM:-0700
TZOFFSETTO:-0700
TZNAME:MST
DTSTART:20240101T000000
END:STANDARD
END:VTIMEZONE
BEGIN:VEVENT
DTSTART;VALUE=DATE:20251203
DTEND;VALUE=DATE:20251204
DTSTAMP:20260425T071355
CREATED:20251123T230941Z
LAST-MODIFIED:20251123T230941Z
UID:10000291-1764720000-1764806399@www.studentchoicehighschool.com
SUMMARY:Yuma: Grand Canyon University Trip
DESCRIPTION:Grand Canyon University Trip Flyer
URL:https://www.studentchoicehighschool.com/calendar-event/yuma-grand-canyon-university-trip
END:VEVENT
BEGIN:VEVENT
DTSTART;VALUE=DATE:20251203
DTEND;VALUE=DATE:20251204
DTSTAMP:20260425T071355
CREATED:20251123T231817Z
LAST-MODIFIED:20251123T231817Z
UID:10000297-1764720000-1764806399@www.studentchoicehighschool.com
SUMMARY:Tempe: Mark Rine Science Guy
DESCRIPTION:
URL:https://www.studentchoicehighschool.com/calendar-event/tempe-mark-rine-science-guy
END:VEVENT
BEGIN:VEVENT
DTSTART;TZID=America/Phoenix:20251203T071500
DTEND;TZID=America/Phoenix:20251203T111500
DTSTAMP:20260425T071355
CREATED:20250923T052611Z
LAST-MODIFIED:20250923T052611Z
UID:10000129-1764746100-1764760500@www.studentchoicehighschool.com
SUMMARY:Surprise: Service Learning Adopt-a-Street
DESCRIPTION:
URL:https://www.studentchoicehighschool.com/calendar-event/surprise-service-learning-adopt-a-street-2/2025-12-03
END:VEVENT
BEGIN:VEVENT
DTSTART;TZID=America/Phoenix:20251203T083000
DTEND;TZID=America/Phoenix:20251203T093000
DTSTAMP:20260425T071355
CREATED:20251123T231724Z
LAST-MODIFIED:20251123T231724Z
UID:10000296-1764750600-1764754200@www.studentchoicehighschool.com
SUMMARY:Maryvale: West Mec Application AM Supports
DESCRIPTION:
URL:https://www.studentchoicehighschool.com/calendar-event/maryvale-west-mec-application-am-supports
END:VEVENT
BEGIN:VEVENT
DTSTART;TZID=America/Phoenix:20251203T140000
DTEND;TZID=America/Phoenix:20251203T140000
DTSTAMP:20260425T071355
CREATED:20251123T230337Z
LAST-MODIFIED:20251123T230337Z
UID:10000286-1764770400-1764770400@www.studentchoicehighschool.com
SUMMARY:Glendale: Phoenix College Visit
DESCRIPTION:Phoenix College Visit Flyer
URL:https://www.studentchoicehighschool.com/calendar-event/glendale-phoenix-college-visit
END:VEVENT
END:VCALENDAR